BEGIN:VCALENDAR
VERSION:2.0
PRODID:-//spbstu.ru//ical//RU
NAME:Расписание группы 3734303/30102
X-WR-CALNAME:Расписание группы 3734303/30102
TIMEZONE-ID:Europe/Moscow
X-WR-TIMEZONE:Europe/Moscow
BEGIN:VEVENT
UID:6bsn@192.168.245.71:3006
SEQUENCE:0
DTSTAMP:20260423T031924Z
DTSTART:20251222T070000Z
DTEND:20251222T084000Z
SUMMARY:Информационные технологии  в гостиничной деятельности
LOCATION:DL Дистанционно
END:VEVENT
BEGIN:VEVENT
UID:ucu1@192.168.245.71:3006
SEQUENCE:0
DTSTAMP:20260423T031924Z
DTSTART:20251223T110000Z
DTEND:20251223T124000Z
SUMMARY:Информационные технологии  в гостиничной деятельности
LOCATION:50 уч.к 1103
END:VEVENT
BEGIN:VEVENT
UID:euwn@192.168.245.71:3006
SEQUENCE:0
DTSTAMP:20260423T031924Z
DTSTART:20251224T090000Z
DTEND:20251224T104000Z
SUMMARY:Карьерная адаптивность: Туристские формальности
LOCATION:50 уч.к 1317
END:VEVENT
END:VCALENDAR