BEGIN:VCALENDAR
VERSION:2.0
PRODID:-//spbstu.ru//ical//RU
NAME:Расписание группы 3734303/30102
X-WR-CALNAME:Расписание группы 3734303/30102
TIMEZONE-ID:Europe/Moscow
X-WR-TIMEZONE:Europe/Moscow
BEGIN:VEVENT
UID:95mz@192.168.245.71:3006
SEQUENCE:0
DTSTAMP:20260423T031842Z
DTSTART:20251229T070000Z
DTEND:20251229T104000Z
SUMMARY:Иностранный язык. Профессионально-ориентированный курс
LOCATION:16 к. 413
END:VEVENT
END:VCALENDAR