BEGIN:VCALENDAR
VERSION:2.0
PRODID:-//spbstu.ru//ical//RU
NAME:Расписание группы 3734303/30102
X-WR-CALNAME:Расписание группы 3734303/30102
TIMEZONE-ID:Europe/Moscow
X-WR-TIMEZONE:Europe/Moscow
BEGIN:VEVENT
UID:vrby@192.168.245.71:3006
SEQUENCE:0
DTSTAMP:20260421T155600Z
DTSTART:20260521T110000Z
DTEND:20260521T124000Z
SUMMARY:Бизнес-планирование
LOCATION:50 уч.к 1219
END:VEVENT
BEGIN:VEVENT
UID:brz7@192.168.245.71:3006
SEQUENCE:0
DTSTAMP:20260421T155600Z
DTSTART:20260522T090000Z
DTEND:20260522T104000Z
SUMMARY:Финансовый анализ деятельности компании
LOCATION:50 уч.к 1105
END:VEVENT
BEGIN:VEVENT
UID:y7wp@192.168.245.71:3006
SEQUENCE:0
DTSTAMP:20260421T155600Z
DTSTART:20260522T110000Z
DTEND:20260522T124000Z
SUMMARY:Страноведение и международный туризм
LOCATION:50 уч.к 1105
END:VEVENT
END:VCALENDAR