BEGIN:VCALENDAR
VERSION:2.0
PRODID:-//spbstu.ru//ical//RU
NAME:Расписание группы 3734303/30102
X-WR-CALNAME:Расписание группы 3734303/30102
TIMEZONE-ID:Europe/Moscow
X-WR-TIMEZONE:Europe/Moscow
BEGIN:VEVENT
UID:o4iv@192.168.245.71:3006
SEQUENCE:0
DTSTAMP:20260421T192044Z
DTSTART:20260601T110000Z
DTEND:20260601T144000Z
SUMMARY:Бизнес-планирование
LOCATION:50 уч.к 1230
END:VEVENT
BEGIN:VEVENT
UID:op46@192.168.245.71:3006
SEQUENCE:0
DTSTAMP:20260421T192044Z
DTSTART:20260602T070000Z
DTEND:20260602T084000Z
SUMMARY:Управление персоналом в гостиничной индустрии
LOCATION:DL Дистанционно
END:VEVENT
BEGIN:VEVENT
UID:3v0a@192.168.245.71:3006
SEQUENCE:0
DTSTAMP:20260421T192044Z
DTSTART:20260604T100000Z
DTEND:20260604T124000Z
SUMMARY:Управление персоналом в гостиничной индустрии
LOCATION:50 уч.к 1230
END:VEVENT
BEGIN:VEVENT
UID:1l88@192.168.245.71:3006
SEQUENCE:0
DTSTAMP:20260421T192044Z
DTSTART:20260605T070000Z
DTEND:20260605T084000Z
SUMMARY:Страноведение и международный туризм
LOCATION:DL Дистанционно
END:VEVENT
END:VCALENDAR