BEGIN:VCALENDAR
VERSION:2.0
PRODID:-//spbstu.ru//ical//RU
NAME:Расписание группы 3753801/30101
X-WR-CALNAME:Расписание группы 3753801/30101
TIMEZONE-ID:Europe/Moscow
X-WR-TIMEZONE:Europe/Moscow
BEGIN:VEVENT
UID:eo3x@192.168.245.71:3006
SEQUENCE:0
DTSTAMP:20260423T191719Z
DTSTART:20251208T070000Z
DTEND:20251208T084000Z
SUMMARY:Экономическая безопасность
LOCATION:50 уч.к 1219
END:VEVENT
BEGIN:VEVENT
UID:93jy@192.168.245.71:3006
SEQUENCE:0
DTSTAMP:20260423T191719Z
DTSTART:20251208T090000Z
DTEND:20251208T104000Z
SUMMARY:Экономическая безопасность
LOCATION:50 уч.к 1242
END:VEVENT
BEGIN:VEVENT
UID:9txt@192.168.245.71:3006
SEQUENCE:0
DTSTAMP:20260423T191719Z
DTSTART:20251208T130000Z
DTEND:20251208T144000Z
SUMMARY:Криминалистика
LOCATION:50 уч.к 1226
END:VEVENT
BEGIN:VEVENT
UID:6ij8@192.168.245.71:3006
SEQUENCE:0
DTSTAMP:20260423T191719Z
DTSTART:20251209T050000Z
DTEND:20251209T064000Z
SUMMARY:Математические методы в экономике и управлении
LOCATION:50 уч.к 1107
END:VEVENT
BEGIN:VEVENT
UID:nc3e@192.168.245.71:3006
SEQUENCE:0
DTSTAMP:20260423T191719Z
DTSTART:20251209T070000Z
DTEND:20251209T084000Z
SUMMARY:Бухгалтерская (финансовая) отчетность и анализ
LOCATION:50 уч.к 1219
END:VEVENT
BEGIN:VEVENT
UID:rlfc@192.168.245.71:3006
SEQUENCE:0
DTSTAMP:20260423T191719Z
DTSTART:20251209T090000Z
DTEND:20251209T104000Z
SUMMARY:Информационные системы в экономике
LOCATION:50 уч.к 1109
END:VEVENT
BEGIN:VEVENT
UID:wagy@192.168.245.71:3006
SEQUENCE:0
DTSTAMP:20260423T191719Z
DTSTART:20251210T090000Z
DTEND:20251210T104000Z
SUMMARY:Иностранный язык. Профессионально-ориентированный курс
LOCATION:16 к. 413
END:VEVENT
BEGIN:VEVENT
UID:bdun@192.168.245.71:3006
SEQUENCE:0
DTSTAMP:20260423T191719Z
DTSTART:20251210T110000Z
DTEND:20251210T124000Z
SUMMARY:Иностранный язык. Профессионально-ориентированный курс
LOCATION:16 к. 413
END:VEVENT
BEGIN:VEVENT
UID:vha8@192.168.245.71:3006
SEQUENCE:0
DTSTAMP:20260423T191719Z
DTSTART:20251210T150000Z
DTEND:20251210T164000Z
SUMMARY:Специальная подготовка
LOCATION:50 уч.к 1214
END:VEVENT
BEGIN:VEVENT
UID:na3u@192.168.245.71:3006
SEQUENCE:0
DTSTAMP:20260423T191719Z
DTSTART:20251212T130000Z
DTEND:20251212T144000Z
SUMMARY:Уголовный процесс
LOCATION:50 уч.к 1245
END:VEVENT
BEGIN:VEVENT
UID:2sgg@192.168.245.71:3006
SEQUENCE:0
DTSTAMP:20260423T191719Z
DTSTART:20251213T070000Z
DTEND:20251213T084000Z
SUMMARY:Международная система ПОД/ФТ
LOCATION:50 уч.к 1234
END:VEVENT
BEGIN:VEVENT
UID:brcp@192.168.245.71:3006
SEQUENCE:0
DTSTAMP:20260423T191719Z
DTSTART:20251213T090000Z
DTEND:20251213T104000Z
SUMMARY:Уголовный процесс
LOCATION:50 уч.к 1231
END:VEVENT
BEGIN:VEVENT
UID:2z3r@192.168.245.71:3006
SEQUENCE:0
DTSTAMP:20260423T191719Z
DTSTART:20251213T110000Z
DTEND:20251213T124000Z
SUMMARY:Карьерная адаптивность
LOCATION:50 уч.к 1432
END:VEVENT
BEGIN:VEVENT
UID:78lb@192.168.245.71:3006
SEQUENCE:0
DTSTAMP:20260423T191719Z
DTSTART:20251213T130000Z
DTEND:20251213T144000Z
SUMMARY:Карьерная адаптивность
LOCATION:50 уч.к 1218
END:VEVENT
END:VCALENDAR