BEGIN:VCALENDAR
VERSION:2.0
PRODID:-//spbstu.ru//ical//RU
NAME:Расписание группы 3753801/30101
X-WR-CALNAME:Расписание группы 3753801/30101
TIMEZONE-ID:Europe/Moscow
X-WR-TIMEZONE:Europe/Moscow
BEGIN:VEVENT
UID:afqp@192.168.245.71:3006
SEQUENCE:0
DTSTAMP:20260421T094058Z
DTSTART:20260413T110000Z
DTEND:20260413T124000Z
SUMMARY:Международные стандарты финансовой отчетности
LOCATION:50 уч.к 1242
END:VEVENT
BEGIN:VEVENT
UID:o9gz@192.168.245.71:3006
SEQUENCE:0
DTSTAMP:20260421T094058Z
DTSTART:20260414T090000Z
DTEND:20260414T104000Z
SUMMARY:Специальная подготовка
LOCATION:50 уч.к 1432
END:VEVENT
BEGIN:VEVENT
UID:g98s@192.168.245.71:3006
SEQUENCE:0
DTSTAMP:20260421T094058Z
DTSTART:20260414T110000Z
DTEND:20260414T124000Z
SUMMARY:Судебная экономическая экспертиза
LOCATION:50 уч.к 1230
END:VEVENT
BEGIN:VEVENT
UID:p8i8@192.168.245.71:3006
SEQUENCE:0
DTSTAMP:20260421T094058Z
DTSTART:20260414T130000Z
DTEND:20260414T144000Z
SUMMARY:Базы данных
LOCATION:50 уч.к 1107
END:VEVENT
BEGIN:VEVENT
UID:klz1@192.168.245.71:3006
SEQUENCE:0
DTSTAMP:20260421T094058Z
DTSTART:20260415T070000Z
DTEND:20260415T084000Z
SUMMARY:Налоги и налогообложение
LOCATION:50 уч.к 1242
END:VEVENT
BEGIN:VEVENT
UID:nznx@192.168.245.71:3006
SEQUENCE:0
DTSTAMP:20260421T094058Z
DTSTART:20260415T090000Z
DTEND:20260415T104000Z
SUMMARY:Аудит
LOCATION:50 уч.к 1331
END:VEVENT
BEGIN:VEVENT
UID:8ex8@192.168.245.71:3006
SEQUENCE:0
DTSTAMP:20260421T094058Z
DTSTART:20260415T110000Z
DTEND:20260415T124000Z
SUMMARY:Налоги и налогообложение
LOCATION:50 уч.к 1249
END:VEVENT
BEGIN:VEVENT
UID:7jmk@192.168.245.71:3006
SEQUENCE:0
DTSTAMP:20260421T094058Z
DTSTART:20260415T130000Z
DTEND:20260415T144000Z
SUMMARY:Базы данных
LOCATION:50 уч.к 1242
END:VEVENT
BEGIN:VEVENT
UID:pl6m@192.168.245.71:3006
SEQUENCE:0
DTSTAMP:20260421T094058Z
DTSTART:20260417T070000Z
DTEND:20260417T084000Z
SUMMARY:Карьерная адаптивность
LOCATION:50 уч.к 1324
END:VEVENT
BEGIN:VEVENT
UID:8bjx@192.168.245.71:3006
SEQUENCE:0
DTSTAMP:20260421T094058Z
DTSTART:20260417T090000Z
DTEND:20260417T104000Z
SUMMARY:Карьерная адаптивность
LOCATION:50 уч.к 1245
END:VEVENT
BEGIN:VEVENT
UID:jju3@192.168.245.71:3006
SEQUENCE:0
DTSTAMP:20260421T094058Z
DTSTART:20260417T110000Z
DTEND:20260417T124000Z
SUMMARY:Национальная система ПОД/ФТ
LOCATION:50 уч.к 1231
END:VEVENT
BEGIN:VEVENT
UID:omp8@192.168.245.71:3006
SEQUENCE:0
DTSTAMP:20260421T094058Z
DTSTART:20260417T130000Z
DTEND:20260417T144000Z
SUMMARY:Национальная система ПОД/ФТ
LOCATION:50 уч.к 1319
END:VEVENT
BEGIN:VEVENT
UID:1zox@192.168.245.71:3006
SEQUENCE:0
DTSTAMP:20260421T094058Z
DTSTART:20260418T050000Z
DTEND:20260418T064000Z
SUMMARY:Судебная экономическая экспертиза
LOCATION:50 уч.к 1115
END:VEVENT
BEGIN:VEVENT
UID:xdpe@192.168.245.71:3006
SEQUENCE:0
DTSTAMP:20260421T094058Z
DTSTART:20260418T070000Z
DTEND:20260418T084000Z
SUMMARY:Национальная система ПОД/ФТ
LOCATION:50 уч.к 1319
END:VEVENT
BEGIN:VEVENT
UID:aykx@192.168.245.71:3006
SEQUENCE:0
DTSTAMP:20260421T094058Z
DTSTART:20260418T090000Z
DTEND:20260418T104000Z
SUMMARY:Национальная система ПОД/ФТ
LOCATION:50 уч.к 1432
END:VEVENT
BEGIN:VEVENT
UID:mplq@192.168.245.71:3006
SEQUENCE:0
DTSTAMP:20260421T094058Z
DTSTART:20260418T110000Z
DTEND:20260418T124000Z
SUMMARY:Судебная экономическая экспертиза
LOCATION:50 уч.к 1225
END:VEVENT
END:VCALENDAR