BEGIN:VCALENDAR
VERSION:2.0
PRODID:-//spbstu.ru//ical//RU
NAME:Расписание группы 3753801/30101
X-WR-CALNAME:Расписание группы 3753801/30101
TIMEZONE-ID:Europe/Moscow
X-WR-TIMEZONE:Europe/Moscow
BEGIN:VEVENT
UID:ju86@192.168.245.71:3006
SEQUENCE:0
DTSTAMP:20260421T132649Z
DTSTART:20260504T110000Z
DTEND:20260504T124000Z
SUMMARY:Карьерная адаптивность
LOCATION:50 уч.к 1242
END:VEVENT
BEGIN:VEVENT
UID:06ev@192.168.245.71:3006
SEQUENCE:0
DTSTAMP:20260421T132649Z
DTSTART:20260505T110000Z
DTEND:20260505T124000Z
SUMMARY:Специальная подготовка
LOCATION:50 уч.к 1239
END:VEVENT
BEGIN:VEVENT
UID:hqe9@192.168.245.71:3006
SEQUENCE:0
DTSTAMP:20260421T132649Z
DTSTART:20260506T070000Z
DTEND:20260506T084000Z
SUMMARY:Аудит
LOCATION:50 уч.к 1242
END:VEVENT
BEGIN:VEVENT
UID:zqx0@192.168.245.71:3006
SEQUENCE:0
DTSTAMP:20260421T132649Z
DTSTART:20260506T090000Z
DTEND:20260506T104000Z
SUMMARY:Аудит
LOCATION:50 уч.к 1331
END:VEVENT
BEGIN:VEVENT
UID:vmd4@192.168.245.71:3006
SEQUENCE:0
DTSTAMP:20260421T132649Z
DTSTART:20260506T110000Z
DTEND:20260506T124000Z
SUMMARY:Налоги и налогообложение
LOCATION:50 уч.к 1425
END:VEVENT
BEGIN:VEVENT
UID:hr2w@192.168.245.71:3006
SEQUENCE:0
DTSTAMP:20260421T132649Z
DTSTART:20260506T130000Z
DTEND:20260506T144000Z
SUMMARY:Базы данных
LOCATION:50 уч.к 1336а
END:VEVENT
BEGIN:VEVENT
UID:psmp@192.168.245.71:3006
SEQUENCE:0
DTSTAMP:20260421T132649Z
DTSTART:20260508T070000Z
DTEND:20260508T084000Z
SUMMARY:Международные стандарты финансовой отчетности
LOCATION:50 уч.к 1233
END:VEVENT
BEGIN:VEVENT
UID:5bqw@192.168.245.71:3006
SEQUENCE:0
DTSTAMP:20260421T132649Z
DTSTART:20260508T090000Z
DTEND:20260508T104000Z
SUMMARY:Международные стандарты финансовой отчетности
LOCATION:50 уч.к 1110
END:VEVENT
END:VCALENDAR