BEGIN:VCALENDAR
VERSION:2.0
PRODID:-//spbstu.ru//ical//RU
NAME:Расписание группы 3753801/30101
X-WR-CALNAME:Расписание группы 3753801/30101
TIMEZONE-ID:Europe/Moscow
X-WR-TIMEZONE:Europe/Moscow
BEGIN:VEVENT
UID:0xn5@192.168.245.71:3006
SEQUENCE:0
DTSTAMP:20260421T185528Z
DTSTART:20260602T090000Z
DTEND:20260602T104000Z
SUMMARY:Налоги и налогообложение
LOCATION:50 уч.к 1115
END:VEVENT
BEGIN:VEVENT
UID:hipd@192.168.245.71:3006
SEQUENCE:0
DTSTAMP:20260421T185528Z
DTSTART:20260604T070000Z
DTEND:20260604T093000Z
SUMMARY:Международные стандарты финансовой отчетности
LOCATION:50 уч.к 1115
END:VEVENT
BEGIN:VEVENT
UID:jb4k@192.168.245.71:3006
SEQUENCE:0
DTSTAMP:20260421T185528Z
DTSTART:20260606T090000Z
DTEND:20260606T123000Z
SUMMARY:Карьерная адаптивность
LOCATION:50 уч.к 1115
END:VEVENT
END:VCALENDAR