BEGIN:VCALENDAR
VERSION:2.0
PRODID:-//spbstu.ru//ical//RU
NAME:Расписание группы 3753801/30103
X-WR-CALNAME:Расписание группы 3753801/30103
TIMEZONE-ID:Europe/Moscow
X-WR-TIMEZONE:Europe/Moscow
BEGIN:VEVENT
UID:ijp4@192.168.245.71:3006
SEQUENCE:0
DTSTAMP:20260421T152515Z
DTSTART:20260323T090000Z
DTEND:20260323T104000Z
SUMMARY:Международные стандарты финансовой отчетности
LOCATION:50 уч.к 1107
END:VEVENT
BEGIN:VEVENT
UID:a0y7@192.168.245.71:3006
SEQUENCE:0
DTSTAMP:20260421T152515Z
DTSTART:20260323T110000Z
DTEND:20260323T124000Z
SUMMARY:Карьерная адаптивность
LOCATION:50 уч.к 1242
END:VEVENT
BEGIN:VEVENT
UID:8inb@192.168.245.71:3006
SEQUENCE:0
DTSTAMP:20260421T152515Z
DTSTART:20260323T130000Z
DTEND:20260323T144000Z
SUMMARY:Карьерная адаптивность
LOCATION:50 уч.к 1239
END:VEVENT
BEGIN:VEVENT
UID:iqbp@192.168.245.71:3006
SEQUENCE:0
DTSTAMP:20260421T152515Z
DTSTART:20260324T110000Z
DTEND:20260324T124000Z
SUMMARY:Аудит
LOCATION:50 уч.к 1418
END:VEVENT
BEGIN:VEVENT
UID:ohye@192.168.245.71:3006
SEQUENCE:0
DTSTAMP:20260421T152515Z
DTSTART:20260324T130000Z
DTEND:20260324T144000Z
SUMMARY:Экономическая безопасность
LOCATION:50 уч.к 1231
END:VEVENT
BEGIN:VEVENT
UID:4q37@192.168.245.71:3006
SEQUENCE:0
DTSTAMP:20260421T152515Z
DTSTART:20260325T070000Z
DTEND:20260325T084000Z
SUMMARY:Аудит
LOCATION:50 уч.к 1242
END:VEVENT
BEGIN:VEVENT
UID:cqea@192.168.245.71:3006
SEQUENCE:0
DTSTAMP:20260421T152515Z
DTSTART:20260325T090000Z
DTEND:20260325T104000Z
SUMMARY:Налоги и налогообложение
LOCATION:50 уч.к 1425
END:VEVENT
BEGIN:VEVENT
UID:68v0@192.168.245.71:3006
SEQUENCE:0
DTSTAMP:20260421T152515Z
DTSTART:20260325T110000Z
DTEND:20260325T124000Z
SUMMARY:Базы данных
LOCATION:50 уч.к 1107
END:VEVENT
BEGIN:VEVENT
UID:bq9o@192.168.245.71:3006
SEQUENCE:0
DTSTAMP:20260421T152515Z
DTSTART:20260328T090000Z
DTEND:20260328T104000Z
SUMMARY:Судебная экономическая экспертиза
LOCATION:50 уч.к 1432
END:VEVENT
BEGIN:VEVENT
UID:rv8k@192.168.245.71:3006
SEQUENCE:0
DTSTAMP:20260421T152515Z
DTSTART:20260328T110000Z
DTEND:20260328T124000Z
SUMMARY:Судебная экономическая экспертиза
LOCATION:50 уч.к 1115
END:VEVENT
BEGIN:VEVENT
UID:3qe8@192.168.245.71:3006
SEQUENCE:0
DTSTAMP:20260421T152515Z
DTSTART:20260328T130000Z
DTEND:20260328T144000Z
SUMMARY:Судебная экономическая экспертиза
LOCATION:50 уч.к 1115
END:VEVENT
END:VCALENDAR