BEGIN:VCALENDAR
VERSION:2.0
PRODID:-//spbstu.ru//ical//RU
NAME:Расписание группы 3753801/30103
X-WR-CALNAME:Расписание группы 3753801/30103
TIMEZONE-ID:Europe/Moscow
X-WR-TIMEZONE:Europe/Moscow
BEGIN:VEVENT
UID:wk4i@192.168.245.71:3006
SEQUENCE:0
DTSTAMP:20260424T002519Z
DTSTART:20260610T060000Z
DTEND:20260610T090000Z
SUMMARY:Судебная экономическая экспертиза
LOCATION:50 уч.к 1232
END:VEVENT
END:VCALENDAR