BEGIN:VCALENDAR
VERSION:2.0
PRODID:-//spbstu.ru//ical//RU
NAME:Расписание группы 3753802/30101
X-WR-CALNAME:Расписание группы 3753802/30101
TIMEZONE-ID:Europe/Moscow
X-WR-TIMEZONE:Europe/Moscow
BEGIN:VEVENT
UID:uyyc@192.168.245.71:3006
SEQUENCE:0
DTSTAMP:20260424T004038Z
DTSTART:20251110T050000Z
DTEND:20251110T064000Z
SUMMARY:Таможенно-тарифное регулирование
LOCATION:50 уч.к 1325
END:VEVENT
BEGIN:VEVENT
UID:d8bw@192.168.245.71:3006
SEQUENCE:0
DTSTAMP:20260424T004038Z
DTSTART:20251110T070000Z
DTEND:20251110T084000Z
SUMMARY:Теоретические основы товароведения и экспертизы в таможенном деле
LOCATION:50 уч.к 1230
END:VEVENT
BEGIN:VEVENT
UID:9pxl@192.168.245.71:3006
SEQUENCE:0
DTSTAMP:20260424T004038Z
DTSTART:20251110T090000Z
DTEND:20251110T104000Z
SUMMARY:Средства и методы товарной экспертизы
LOCATION:50 уч.к 1230
END:VEVENT
BEGIN:VEVENT
UID:w25k@192.168.245.71:3006
SEQUENCE:0
DTSTAMP:20260424T004038Z
DTSTART:20251112T110000Z
DTEND:20251112T124000Z
SUMMARY:Иностранный язык. Профессионально-ориентированный курс
LOCATION:16 к. 403
END:VEVENT
BEGIN:VEVENT
UID:2l12@192.168.245.71:3006
SEQUENCE:0
DTSTAMP:20260424T004038Z
DTSTART:20251112T130000Z
DTEND:20251112T144000Z
SUMMARY:Карьерная адаптивность: Психологический практикум
LOCATION:50 уч.к 1121
END:VEVENT
BEGIN:VEVENT
UID:u32v@192.168.245.71:3006
SEQUENCE:0
DTSTAMP:20260424T004038Z
DTSTART:20251112T150000Z
DTEND:20251112T164000Z
SUMMARY:Карьерная адаптивность: Психологический практикум
LOCATION:50 уч.к 1121
END:VEVENT
BEGIN:VEVENT
UID:x8za@192.168.245.71:3006
SEQUENCE:0
DTSTAMP:20260424T004038Z
DTSTART:20251112T170000Z
DTEND:20251112T184000Z
SUMMARY:Карьерная адаптивность: Психологический практикум
LOCATION:50 уч.к 1121
END:VEVENT
BEGIN:VEVENT
UID:vsko@192.168.245.71:3006
SEQUENCE:0
DTSTAMP:20260424T004038Z
DTSTART:20251113T150000Z
DTEND:20251113T164000Z
SUMMARY:Карьерная адаптивность: Психологический практикум
LOCATION:50 уч.к 1418
END:VEVENT
BEGIN:VEVENT
UID:0voy@192.168.245.71:3006
SEQUENCE:0
DTSTAMP:20260424T004038Z
DTSTART:20251113T170000Z
DTEND:20251113T184000Z
SUMMARY:Карьерная адаптивность: Психологический практикум
LOCATION:50 уч.к 1418
END:VEVENT
BEGIN:VEVENT
UID:x6zx@192.168.245.71:3006
SEQUENCE:0
DTSTAMP:20260424T004038Z
DTSTART:20251114T070000Z
DTEND:20251114T084000Z
SUMMARY:Международные экономические отношения
LOCATION:50 уч.к 1121
END:VEVENT
BEGIN:VEVENT
UID:rvud@192.168.245.71:3006
SEQUENCE:0
DTSTAMP:20260424T004038Z
DTSTART:20251114T090000Z
DTEND:20251114T104000Z
SUMMARY:Международные экономические отношения
LOCATION:50 уч.к 1121
END:VEVENT
BEGIN:VEVENT
UID:wvvo@192.168.245.71:3006
SEQUENCE:0
DTSTAMP:20260424T004038Z
DTSTART:20251115T050000Z
DTEND:20251115T064000Z
SUMMARY:Цифровые технологии в таможенном деле
LOCATION:50 уч.к 1324
END:VEVENT
BEGIN:VEVENT
UID:a904@192.168.245.71:3006
SEQUENCE:0
DTSTAMP:20260424T004038Z
DTSTART:20251115T070000Z
DTEND:20251115T084000Z
SUMMARY:Цифровые технологии в таможенном деле
LOCATION:50 уч.к 1336
END:VEVENT
BEGIN:VEVENT
UID:tuco@192.168.245.71:3006
SEQUENCE:0
DTSTAMP:20260424T004038Z
DTSTART:20251115T090000Z
DTEND:20251115T104000Z
SUMMARY:Второй иностранный язык (китайский): базовая подготовка
LOCATION:50 уч.к 1325
END:VEVENT
BEGIN:VEVENT
UID:qqp0@192.168.245.71:3006
SEQUENCE:0
DTSTAMP:20260424T004038Z
DTSTART:20251115T110000Z
DTEND:20251115T124000Z
SUMMARY:Второй иностранный язык (китайский): базовая подготовка
LOCATION:50 уч.к 1325
END:VEVENT
END:VCALENDAR