BEGIN:VCALENDAR
VERSION:2.0
PRODID:-//spbstu.ru//ical//RU
NAME:Расписание группы 3753802/30101
X-WR-CALNAME:Расписание группы 3753802/30101
TIMEZONE-ID:Europe/Moscow
X-WR-TIMEZONE:Europe/Moscow
BEGIN:VEVENT
UID:grlb@192.168.245.71:3006
SEQUENCE:0
DTSTAMP:20260423T173628Z
DTSTART:20251201T070000Z
DTEND:20251201T084000Z
SUMMARY:Теоретические основы товароведения и экспертизы в таможенном деле
LOCATION:50 уч.к 1154
END:VEVENT
BEGIN:VEVENT
UID:ha27@192.168.245.71:3006
SEQUENCE:0
DTSTAMP:20260423T173628Z
DTSTART:20251201T090000Z
DTEND:20251201T104000Z
SUMMARY:Теоретические основы товароведения и экспертизы в таможенном деле
LOCATION:50 уч.к 1154
END:VEVENT
BEGIN:VEVENT
UID:t9lw@192.168.245.71:3006
SEQUENCE:0
DTSTAMP:20260423T173628Z
DTSTART:20251202T110000Z
DTEND:20251202T124000Z
SUMMARY:Средства и методы товарной экспертизы
LOCATION:50 уч.к 1154
END:VEVENT
BEGIN:VEVENT
UID:b73x@192.168.245.71:3006
SEQUENCE:0
DTSTAMP:20260423T173628Z
DTSTART:20251202T130000Z
DTEND:20251202T144000Z
SUMMARY:Средства и методы товарной экспертизы
LOCATION:50 уч.к 1154
END:VEVENT
BEGIN:VEVENT
UID:rsmc@192.168.245.71:3006
SEQUENCE:0
DTSTAMP:20260423T173628Z
DTSTART:20251203T090000Z
DTEND:20251203T104000Z
SUMMARY:Иностранный язык. Профессионально-ориентированный курс
LOCATION:16 к. 403
END:VEVENT
BEGIN:VEVENT
UID:am3n@192.168.245.71:3006
SEQUENCE:0
DTSTAMP:20260423T173628Z
DTSTART:20251203T110000Z
DTEND:20251203T124000Z
SUMMARY:Иностранный язык. Профессионально-ориентированный курс
LOCATION:16 к. 403
END:VEVENT
BEGIN:VEVENT
UID:ne30@192.168.245.71:3006
SEQUENCE:0
DTSTAMP:20260423T173628Z
DTSTART:20251204T050000Z
DTEND:20251204T064000Z
SUMMARY:Таможенно-тарифное регулирование
LOCATION:50 уч.к 1325
END:VEVENT
BEGIN:VEVENT
UID:yjhw@192.168.245.71:3006
SEQUENCE:0
DTSTAMP:20260423T173628Z
DTSTART:20251204T070000Z
DTEND:20251204T084000Z
SUMMARY:Таможенно-тарифное регулирование
LOCATION:50 уч.к 1325
END:VEVENT
BEGIN:VEVENT
UID:wjd8@192.168.245.71:3006
SEQUENCE:0
DTSTAMP:20260423T173628Z
DTSTART:20251205T070000Z
DTEND:20251205T084000Z
SUMMARY:Международные экономические отношения
LOCATION:50 уч.к 1121
END:VEVENT
BEGIN:VEVENT
UID:u9np@192.168.245.71:3006
SEQUENCE:0
DTSTAMP:20260423T173628Z
DTSTART:20251205T090000Z
DTEND:20251205T104000Z
SUMMARY:Международные экономические отношения
LOCATION:50 уч.к 1121
END:VEVENT
BEGIN:VEVENT
UID:q3qj@192.168.245.71:3006
SEQUENCE:0
DTSTAMP:20260423T173628Z
DTSTART:20251205T110000Z
DTEND:20251205T124000Z
SUMMARY:Цены и ценообразование во внешней торговле
LOCATION:50 уч.к 1325
END:VEVENT
BEGIN:VEVENT
UID:xzav@192.168.245.71:3006
SEQUENCE:0
DTSTAMP:20260423T173628Z
DTSTART:20251205T130000Z
DTEND:20251205T144000Z
SUMMARY:Цены и ценообразование во внешней торговле
LOCATION:50 уч.к 1325
END:VEVENT
BEGIN:VEVENT
UID:yt27@192.168.245.71:3006
SEQUENCE:0
DTSTAMP:20260423T173628Z
DTSTART:20251206T090000Z
DTEND:20251206T104000Z
SUMMARY:Второй иностранный язык (китайский): базовая подготовка
LOCATION:50 уч.к 1325
END:VEVENT
END:VCALENDAR