BEGIN:VCALENDAR
VERSION:2.0
PRODID:-//spbstu.ru//ical//RU
NAME:Расписание группы 3753802/30101
X-WR-CALNAME:Расписание группы 3753802/30101
TIMEZONE-ID:Europe/Moscow
X-WR-TIMEZONE:Europe/Moscow
BEGIN:VEVENT
UID:kqkc@192.168.245.71:3006
SEQUENCE:0
DTSTAMP:20260424T235014Z
DTSTART:20250922T070000Z
DTEND:20250922T084000Z
SUMMARY:Теоретические основы товароведения и экспертизы в таможенном деле
LOCATION:50 уч.к 1154
END:VEVENT
BEGIN:VEVENT
UID:bnec@192.168.245.71:3006
SEQUENCE:0
DTSTAMP:20260424T235014Z
DTSTART:20250922T090000Z
DTEND:20250922T104000Z
SUMMARY:Теоретические основы товароведения и экспертизы в таможенном деле
LOCATION:50 уч.к 1154
END:VEVENT
BEGIN:VEVENT
UID:gg4h@192.168.245.71:3006
SEQUENCE:0
DTSTAMP:20260424T235014Z
DTSTART:20250923T110000Z
DTEND:20250923T124000Z
SUMMARY:Средства и методы товарной экспертизы
LOCATION:50 уч.к 1154
END:VEVENT
BEGIN:VEVENT
UID:mtpf@192.168.245.71:3006
SEQUENCE:0
DTSTAMP:20260424T235014Z
DTSTART:20250923T130000Z
DTEND:20250923T144000Z
SUMMARY:Средства и методы товарной экспертизы
LOCATION:50 уч.к 1154
END:VEVENT
BEGIN:VEVENT
UID:jcbu@192.168.245.71:3006
SEQUENCE:0
DTSTAMP:20260424T235014Z
DTSTART:20250924T090000Z
DTEND:20250924T104000Z
SUMMARY:Иностранный язык. Профессионально-ориентированный курс
LOCATION:16 к. 403
END:VEVENT
BEGIN:VEVENT
UID:ud43@192.168.245.71:3006
SEQUENCE:0
DTSTAMP:20260424T235014Z
DTSTART:20250924T110000Z
DTEND:20250924T124000Z
SUMMARY:Иностранный язык. Профессионально-ориентированный курс
LOCATION:16 к. 403
END:VEVENT
BEGIN:VEVENT
UID:f0jd@192.168.245.71:3006
SEQUENCE:0
DTSTAMP:20260424T235014Z
DTSTART:20250925T050000Z
DTEND:20250925T064000Z
SUMMARY:Таможенно-тарифное регулирование
LOCATION:50 уч.к 1325
END:VEVENT
BEGIN:VEVENT
UID:bshj@192.168.245.71:3006
SEQUENCE:0
DTSTAMP:20260424T235014Z
DTSTART:20250925T070000Z
DTEND:20250925T084000Z
SUMMARY:Таможенно-тарифное регулирование
LOCATION:50 уч.к 1325
END:VEVENT
BEGIN:VEVENT
UID:2j33@192.168.245.71:3006
SEQUENCE:0
DTSTAMP:20260424T235014Z
DTSTART:20250926T090000Z
DTEND:20250926T104000Z
SUMMARY:Международные экономические отношения
LOCATION:50 уч.к 1233
END:VEVENT
BEGIN:VEVENT
UID:cqs9@192.168.245.71:3006
SEQUENCE:0
DTSTAMP:20260424T235014Z
DTSTART:20250926T110000Z
DTEND:20250926T124000Z
SUMMARY:Цены и ценообразование во внешней торговле
LOCATION:50 уч.к 1325
END:VEVENT
BEGIN:VEVENT
UID:gckw@192.168.245.71:3006
SEQUENCE:0
DTSTAMP:20260424T235014Z
DTSTART:20250926T130000Z
DTEND:20250926T144000Z
SUMMARY:Цены и ценообразование во внешней торговле
LOCATION:50 уч.к 1325
END:VEVENT
BEGIN:VEVENT
UID:qdzt@192.168.245.71:3006
SEQUENCE:0
DTSTAMP:20260424T235014Z
DTSTART:20250927T090000Z
DTEND:20250927T104000Z
SUMMARY:Второй иностранный язык (китайский): базовая подготовка
LOCATION:50 уч.к 1325
END:VEVENT
END:VCALENDAR