BEGIN:VCALENDAR
VERSION:2.0
PRODID:-//spbstu.ru//ical//RU
NAME:Расписание группы 3753802/30101
X-WR-CALNAME:Расписание группы 3753802/30101
TIMEZONE-ID:Europe/Moscow
X-WR-TIMEZONE:Europe/Moscow
BEGIN:VEVENT
UID:kcbq@192.168.245.71:3006
SEQUENCE:0
DTSTAMP:20260422T014219Z
DTSTART:20260310T050000Z
DTEND:20260310T064000Z
SUMMARY:Налоги и таможенные платежи
LOCATION:50 уч.к 1101
END:VEVENT
BEGIN:VEVENT
UID:m36f@192.168.245.71:3006
SEQUENCE:0
DTSTAMP:20260422T014219Z
DTSTART:20260310T070000Z
DTEND:20260310T084000Z
SUMMARY:Техническое регулирование в ЕАЭС
LOCATION:50 уч.к 1101
END:VEVENT
BEGIN:VEVENT
UID:nxei@192.168.245.71:3006
SEQUENCE:0
DTSTAMP:20260422T014219Z
DTSTART:20260310T090000Z
DTEND:20260310T104000Z
SUMMARY:Техническое регулирование в ЕАЭС
LOCATION:50 уч.к 1101
END:VEVENT
BEGIN:VEVENT
UID:gj77@192.168.245.71:3006
SEQUENCE:0
DTSTAMP:20260422T014219Z
DTSTART:20260311T090000Z
DTEND:20260311T104000Z
SUMMARY:Карьерная адаптивность: Теория и практика кависта и сомелье
LOCATION:50 уч.к 1121
END:VEVENT
BEGIN:VEVENT
UID:84fo@192.168.245.71:3006
SEQUENCE:0
DTSTAMP:20260422T014219Z
DTSTART:20260311T110000Z
DTEND:20260311T124000Z
SUMMARY:Карьерная адаптивность: Теория и практика кависта и сомелье
LOCATION:50 уч.к 1121
END:VEVENT
BEGIN:VEVENT
UID:3gvv@192.168.245.71:3006
SEQUENCE:0
DTSTAMP:20260422T014219Z
DTSTART:20260312T070000Z
DTEND:20260312T084000Z
SUMMARY:Экономика таможенного дела
LOCATION:50 уч.к 1225
END:VEVENT
BEGIN:VEVENT
UID:u2v8@192.168.245.71:3006
SEQUENCE:0
DTSTAMP:20260422T014219Z
DTSTART:20260312T090000Z
DTEND:20260312T104000Z
SUMMARY:Экономика таможенного дела
LOCATION:50 уч.к 1225
END:VEVENT
BEGIN:VEVENT
UID:v2xn@192.168.245.71:3006
SEQUENCE:0
DTSTAMP:20260422T014219Z
DTSTART:20260312T110000Z
DTEND:20260312T124000Z
SUMMARY:Основы государственной службы
LOCATION:50 уч.к 1225
END:VEVENT
BEGIN:VEVENT
UID:n6va@192.168.245.71:3006
SEQUENCE:0
DTSTAMP:20260422T014219Z
DTSTART:20260312T130000Z
DTEND:20260312T144000Z
SUMMARY:Товароведение и экспертиза продовольственных товаров растительного
  происхождения
LOCATION:50 уч.к 1120
END:VEVENT
BEGIN:VEVENT
UID:ci3y@192.168.245.71:3006
SEQUENCE:0
DTSTAMP:20260422T014219Z
DTSTART:20260314T070000Z
DTEND:20260314T084000Z
SUMMARY:Таможенные процедуры и операции
LOCATION:50 уч.к 1120
END:VEVENT
BEGIN:VEVENT
UID:hm65@192.168.245.71:3006
SEQUENCE:0
DTSTAMP:20260422T014219Z
DTSTART:20260314T090000Z
DTEND:20260314T104000Z
SUMMARY:Таможенные процедуры и операции
LOCATION:50 уч.к 1120
END:VEVENT
BEGIN:VEVENT
UID:f4i4@192.168.245.71:3006
SEQUENCE:0
DTSTAMP:20260422T014219Z
DTSTART:20260314T110000Z
DTEND:20260314T124000Z
SUMMARY:Таможенные процедуры и операции
LOCATION:50 уч.к 1120
END:VEVENT
END:VCALENDAR