BEGIN:VCALENDAR
VERSION:2.0
PRODID:-//spbstu.ru//ical//RU
NAME:Расписание группы 3733801/20101
X-WR-CALNAME:Расписание группы 3733801/20101
TIMEZONE-ID:Europe/Moscow
X-WR-TIMEZONE:Europe/Moscow
BEGIN:VEVENT
UID:rbh7@192.168.245.71:3006
SEQUENCE:0
DTSTAMP:20260425T101553Z
DTSTART:20251110T090000Z
DTEND:20251110T104000Z
SUMMARY:Оценка и управление стоимостью бизнеса
LOCATION:50 уч.к 1432
END:VEVENT
BEGIN:VEVENT
UID:i8v5@192.168.245.71:3006
SEQUENCE:0
DTSTAMP:20260425T101553Z
DTSTART:20251110T110000Z
DTEND:20251110T124000Z
SUMMARY:Инвестиционный анализ
LOCATION:50 уч.к 1243
END:VEVENT
BEGIN:VEVENT
UID:mhkc@192.168.245.71:3006
SEQUENCE:0
DTSTAMP:20260425T101553Z
DTSTART:20251110T130000Z
DTEND:20251110T144000Z
SUMMARY:Контроллинг
LOCATION:50 уч.к 1116
END:VEVENT
BEGIN:VEVENT
UID:mrbl@192.168.245.71:3006
SEQUENCE:0
DTSTAMP:20260425T101553Z
DTSTART:20251111T050000Z
DTEND:20251111T064000Z
SUMMARY:Производственно-технологические комплексы предприятия
LOCATION:50 уч.к 1324
END:VEVENT
BEGIN:VEVENT
UID:4i9q@192.168.245.71:3006
SEQUENCE:0
DTSTAMP:20260425T101553Z
DTSTART:20251111T070000Z
DTEND:20251111T084000Z
SUMMARY:Производственно-технологические комплексы предприятия
LOCATION:50 уч.к 1324
END:VEVENT
BEGIN:VEVENT
UID:xc2y@192.168.245.71:3006
SEQUENCE:0
DTSTAMP:20260425T101553Z
DTSTART:20251111T090000Z
DTEND:20251111T104000Z
SUMMARY:Экономика труда
LOCATION:50 уч.к 1432
END:VEVENT
BEGIN:VEVENT
UID:gko2@192.168.245.71:3006
SEQUENCE:0
DTSTAMP:20260425T101553Z
DTSTART:20251111T110000Z
DTEND:20251111T124000Z
SUMMARY:Экономика труда
LOCATION:50 уч.к 1251
END:VEVENT
BEGIN:VEVENT
UID:xj6o@192.168.245.71:3006
SEQUENCE:0
DTSTAMP:20260425T101553Z
DTSTART:20251112T110000Z
DTEND:20251112T124000Z
SUMMARY:Инвестиционный анализ
LOCATION:50 уч.к 1331
END:VEVENT
BEGIN:VEVENT
UID:ngi7@192.168.245.71:3006
SEQUENCE:0
DTSTAMP:20260425T101553Z
DTSTART:20251112T130000Z
DTEND:20251112T144000Z
SUMMARY:Оценка и управление стоимостью бизнеса
LOCATION:50 уч.к 1324
END:VEVENT
BEGIN:VEVENT
UID:5iy4@192.168.245.71:3006
SEQUENCE:0
DTSTAMP:20260425T101553Z
DTSTART:20251113T090000Z
DTEND:20251113T104000Z
SUMMARY:Контроллинг
LOCATION:50 уч.к 1426
END:VEVENT
BEGIN:VEVENT
UID:5dxs@192.168.245.71:3006
SEQUENCE:0
DTSTAMP:20260425T101553Z
DTSTART:20251113T110000Z
DTEND:20251113T124000Z
SUMMARY:Автоматизированные системы управления предприятием (1С:ERP)
LOCATION:50 уч.к 1103
END:VEVENT
BEGIN:VEVENT
UID:guy6@192.168.245.71:3006
SEQUENCE:0
DTSTAMP:20260425T101553Z
DTSTART:20251114T070000Z
DTEND:20251114T084000Z
SUMMARY:Внешнеэкономическая деятельность и логистические системы
LOCATION:DL Дистанционно
END:VEVENT
BEGIN:VEVENT
UID:pbm3@192.168.245.71:3006
SEQUENCE:0
DTSTAMP:20260425T101553Z
DTSTART:20251114T090000Z
DTEND:20251114T104000Z
SUMMARY:Внешнеэкономическая деятельность и логистические системы
LOCATION:DL Дистанционно
END:VEVENT
END:VCALENDAR