BEGIN:VCALENDAR
VERSION:2.0
PRODID:-//spbstu.ru//ical//RU
NAME:Расписание группы 3733801/20982
X-WR-CALNAME:Расписание группы 3733801/20982
TIMEZONE-ID:Europe/Moscow
X-WR-TIMEZONE:Europe/Moscow
BEGIN:VEVENT
UID:g940@192.168.245.71:3006
SEQUENCE:0
DTSTAMP:20260425T180602Z
DTSTART:20251013T050000Z
DTEND:20251013T064000Z
SUMMARY:Финансовые рынки
LOCATION:50 уч.к 1112
END:VEVENT
BEGIN:VEVENT
UID:lfzn@192.168.245.71:3006
SEQUENCE:0
DTSTAMP:20260425T180602Z
DTSTART:20251013T070000Z
DTEND:20251013T084000Z
SUMMARY:Финансовые рынки
LOCATION:50 уч.к 1112
END:VEVENT
BEGIN:VEVENT
UID:km3i@192.168.245.71:3006
SEQUENCE:0
DTSTAMP:20260425T180602Z
DTSTART:20251014T090000Z
DTEND:20251014T104000Z
SUMMARY:Экономика труда
LOCATION:50 уч.к 1432
END:VEVENT
BEGIN:VEVENT
UID:b5pw@192.168.245.71:3006
SEQUENCE:0
DTSTAMP:20260425T180602Z
DTSTART:20251014T110000Z
DTEND:20251014T124000Z
SUMMARY:Межкультурные коммуникации
LOCATION:50 уч.к 1432
END:VEVENT
BEGIN:VEVENT
UID:6qvk@192.168.245.71:3006
SEQUENCE:0
DTSTAMP:20260425T180602Z
DTSTART:20251014T130000Z
DTEND:20251014T144000Z
SUMMARY:Межкультурные коммуникации
LOCATION:50 уч.к 1245
END:VEVENT
BEGIN:VEVENT
UID:blix@192.168.245.71:3006
SEQUENCE:0
DTSTAMP:20260425T180602Z
DTSTART:20251016T050000Z
DTEND:20251016T064000Z
SUMMARY:Инвестиционный анализ
LOCATION:50 уч.к 1112
END:VEVENT
BEGIN:VEVENT
UID:uyvz@192.168.245.71:3006
SEQUENCE:0
DTSTAMP:20260425T180602Z
DTSTART:20251016T070000Z
DTEND:20251016T084000Z
SUMMARY:Автоматизированные системы управления предприятием (1С:ERP)
LOCATION:50 уч.к 1336
END:VEVENT
BEGIN:VEVENT
UID:cbfk@192.168.245.71:3006
SEQUENCE:0
DTSTAMP:20260425T180602Z
DTSTART:20251016T090000Z
DTEND:20251016T104000Z
SUMMARY:Инвестиционный анализ
LOCATION:50 уч.к 1112
END:VEVENT
BEGIN:VEVENT
UID:b20l@192.168.245.71:3006
SEQUENCE:0
DTSTAMP:20260425T180602Z
DTSTART:20251016T110000Z
DTEND:20251016T124000Z
SUMMARY:Оценка и управление стоимостью бизнеса
LOCATION:50 уч.к 1112
END:VEVENT
END:VCALENDAR