BEGIN:VCALENDAR
VERSION:2.0
PRODID:-//spbstu.ru//ical//RU
NAME:Расписание группы 3733801/21401
X-WR-CALNAME:Расписание группы 3733801/21401
TIMEZONE-ID:Europe/Moscow
X-WR-TIMEZONE:Europe/Moscow
BEGIN:VEVENT
UID:t1nt@192.168.245.71:3006
SEQUENCE:0
DTSTAMP:20260425T192636Z
DTSTART:20251013T070000Z
DTEND:20251013T084000Z
SUMMARY:Анализ инвестиционных проектов в энергетике
LOCATION:50 уч.к 1319
END:VEVENT
BEGIN:VEVENT
UID:46qj@192.168.245.71:3006
SEQUENCE:0
DTSTAMP:20260425T192636Z
DTSTART:20251013T090000Z
DTEND:20251013T104000Z
SUMMARY:Анализ инвестиционных проектов в энергетике
LOCATION:50 уч.к 1319
END:VEVENT
BEGIN:VEVENT
UID:f4t5@192.168.245.71:3006
SEQUENCE:0
DTSTAMP:20260425T192636Z
DTSTART:20251013T110000Z
DTEND:20251013T124000Z
SUMMARY:Оценка и управление стоимостью бизнеса
LOCATION:50 уч.к 1325
END:VEVENT
BEGIN:VEVENT
UID:cmkl@192.168.245.71:3006
SEQUENCE:0
DTSTAMP:20260425T192636Z
DTSTART:20251014T050000Z
DTEND:20251014T064000Z
SUMMARY:Экономика отраслей ТЭК и основы экономики энергосбережения
LOCATION:50 уч.к 1327
END:VEVENT
BEGIN:VEVENT
UID:5ubd@192.168.245.71:3006
SEQUENCE:0
DTSTAMP:20260425T192636Z
DTSTART:20251014T070000Z
DTEND:20251014T084000Z
SUMMARY:Экономика отраслей ТЭК и основы экономики энергосбережения
LOCATION:50 уч.к 1327
END:VEVENT
BEGIN:VEVENT
UID:e0rl@192.168.245.71:3006
SEQUENCE:0
DTSTAMP:20260425T192636Z
DTSTART:20251015T130000Z
DTEND:20251015T144000Z
SUMMARY:Автоматизированные системы управления предприятием (1С:ERP)
LOCATION:50 уч.к 1204
END:VEVENT
BEGIN:VEVENT
UID:qtv6@192.168.245.71:3006
SEQUENCE:0
DTSTAMP:20260425T192636Z
DTSTART:20251015T150000Z
DTEND:20251015T164000Z
SUMMARY:Инвестиционный анализ
LOCATION:50 уч.к 1426
END:VEVENT
BEGIN:VEVENT
UID:5743@192.168.245.71:3006
SEQUENCE:0
DTSTAMP:20260425T192636Z
DTSTART:20251017T050000Z
DTEND:20251017T064000Z
SUMMARY:Технико-экономическое планирование и анализ данных в энергетике
LOCATION:50 уч.к 1425
END:VEVENT
BEGIN:VEVENT
UID:5rpv@192.168.245.71:3006
SEQUENCE:0
DTSTAMP:20260425T192636Z
DTSTART:20251017T070000Z
DTEND:20251017T084000Z
SUMMARY:Технико-экономическое планирование и анализ данных в энергетике
LOCATION:50 уч.к 1425
END:VEVENT
BEGIN:VEVENT
UID:iz82@192.168.245.71:3006
SEQUENCE:0
DTSTAMP:20260425T192636Z
DTSTART:20251017T090000Z
DTEND:20251017T104000Z
SUMMARY:Инвестиционный анализ
LOCATION:50 уч.к 1243
END:VEVENT
BEGIN:VEVENT
UID:4ofq@192.168.245.71:3006
SEQUENCE:0
DTSTAMP:20260425T192636Z
DTSTART:20251018T070000Z
DTEND:20251018T084000Z
SUMMARY:Планирование на предприятиях энергетики
LOCATION:50 уч.к 1112
END:VEVENT
BEGIN:VEVENT
UID:w13q@192.168.245.71:3006
SEQUENCE:0
DTSTAMP:20260425T192636Z
DTSTART:20251018T090000Z
DTEND:20251018T104000Z
SUMMARY:Планирование на предприятиях энергетики
LOCATION:50 уч.к 1112
END:VEVENT
BEGIN:VEVENT
UID:96kc@192.168.245.71:3006
SEQUENCE:0
DTSTAMP:20260425T192636Z
DTSTART:20251018T110000Z
DTEND:20251018T124000Z
SUMMARY:Планирование на предприятиях энергетики
LOCATION:50 уч.к 1112
END:VEVENT
END:VCALENDAR