BEGIN:VCALENDAR
VERSION:2.0
PRODID:-//spbstu.ru//ical//RU
NAME:Расписание группы 3733801/21401
X-WR-CALNAME:Расписание группы 3733801/21401
TIMEZONE-ID:Europe/Moscow
X-WR-TIMEZONE:Europe/Moscow
BEGIN:VEVENT
UID:ro7z@192.168.245.71:3006
SEQUENCE:0
DTSTAMP:20260422T141054Z
DTSTART:20260316T090000Z
DTEND:20260316T104000Z
SUMMARY:Комплексная курсовая работа
LOCATION:50 уч.к 1214
END:VEVENT
BEGIN:VEVENT
UID:2248@192.168.245.71:3006
SEQUENCE:0
DTSTAMP:20260422T141054Z
DTSTART:20260316T110000Z
DTEND:20260316T124000Z
SUMMARY:Семинар по экономической теории
LOCATION:50 уч.к 1423
END:VEVENT
BEGIN:VEVENT
UID:ytme@192.168.245.71:3006
SEQUENCE:0
DTSTAMP:20260422T141054Z
DTSTART:20260316T130000Z
DTEND:20260316T144000Z
SUMMARY:Семинар по экономической теории
LOCATION:50 уч.к 1423
END:VEVENT
BEGIN:VEVENT
UID:hvcx@192.168.245.71:3006
SEQUENCE:0
DTSTAMP:20260422T141054Z
DTSTART:20260317T110000Z
DTEND:20260317T124000Z
SUMMARY:Комплексная курсовая работа
LOCATION:50 уч.к 1414
END:VEVENT
BEGIN:VEVENT
UID:8uyc@192.168.245.71:3006
SEQUENCE:0
DTSTAMP:20260422T141054Z
DTSTART:20260320T080000Z
DTEND:20260320T085900Z
SUMMARY:Семинар по экономической теории
LOCATION:50 уч.к 1214
END:VEVENT
BEGIN:VEVENT
UID:0cby@192.168.245.71:3006
SEQUENCE:0
DTSTAMP:20260422T141054Z
DTSTART:20260320T090000Z
DTEND:20260320T103000Z
SUMMARY:Семинар по экономической теории
LOCATION:50 уч.к 1422
END:VEVENT
END:VCALENDAR