BEGIN:VCALENDAR
VERSION:2.0
PRODID:-//spbstu.ru//ical//RU
NAME:Расписание группы 3733801/22901
X-WR-CALNAME:Расписание группы 3733801/22901
TIMEZONE-ID:Europe/Moscow
X-WR-TIMEZONE:Europe/Moscow
BEGIN:VEVENT
UID:99gl@192.168.245.71:3006
SEQUENCE:0
DTSTAMP:20260423T030937Z
DTSTART:20260302T070000Z
DTEND:20260302T084000Z
SUMMARY:Семинар по экономической теории (на английском языке)
LOCATION:50 уч.к 1422
END:VEVENT
BEGIN:VEVENT
UID:m7jm@192.168.245.71:3006
SEQUENCE:0
DTSTAMP:20260423T030937Z
DTSTART:20260302T090000Z
DTEND:20260302T104000Z
SUMMARY:Семинар по экономической теории (на английском языке)
LOCATION:50 уч.к 1422
END:VEVENT
BEGIN:VEVENT
UID:75t0@192.168.245.71:3006
SEQUENCE:0
DTSTAMP:20260423T030937Z
DTSTART:20260304T090000Z
DTEND:20260304T104000Z
SUMMARY:Большие данные и бизнес-аналитика (на английском языке)
LOCATION:50 уч.к 1109
END:VEVENT
BEGIN:VEVENT
UID:x40f@192.168.245.71:3006
SEQUENCE:0
DTSTAMP:20260423T030937Z
DTSTART:20260304T090000Z
DTEND:20260304T104000Z
SUMMARY:Инвестиционный анализ (на английском языке)
LOCATION:50 уч.к 1109
END:VEVENT
BEGIN:VEVENT
UID:py69@192.168.245.71:3006
SEQUENCE:0
DTSTAMP:20260423T030937Z
DTSTART:20260304T090000Z
DTEND:20260304T104000Z
SUMMARY:Информационно-технологическая поддержка бизнес-процессов (на англи
 йском языке)
LOCATION:50 уч.к 1109
END:VEVENT
BEGIN:VEVENT
UID:m6v8@192.168.245.71:3006
SEQUENCE:0
DTSTAMP:20260423T030937Z
DTSTART:20260304T090000Z
DTEND:20260304T104000Z
SUMMARY:Финансовый анализ (на английском языке)
LOCATION:50 уч.к 1109
END:VEVENT
BEGIN:VEVENT
UID:uj75@192.168.245.71:3006
SEQUENCE:0
DTSTAMP:20260423T030937Z
DTSTART:20260304T090000Z
DTEND:20260304T104000Z
SUMMARY:Облачные вычисления (на английском языке)
LOCATION:50 уч.к 1109
END:VEVENT
BEGIN:VEVENT
UID:beou@192.168.245.71:3006
SEQUENCE:0
DTSTAMP:20260423T030937Z
DTSTART:20260304T090000Z
DTEND:20260304T104000Z
SUMMARY:Научно-исследовательская работа
LOCATION:50 уч.к 1109
END:VEVENT
BEGIN:VEVENT
UID:kkkl@192.168.245.71:3006
SEQUENCE:0
DTSTAMP:20260423T030937Z
DTSTART:20260305T110000Z
DTEND:20260305T124000Z
SUMMARY:Управление рисками (на английском языке)
LOCATION:50 уч.к 1319
END:VEVENT
BEGIN:VEVENT
UID:rgle@192.168.245.71:3006
SEQUENCE:0
DTSTAMP:20260423T030937Z
DTSTART:20260305T130000Z
DTEND:20260305T144000Z
SUMMARY:Управление рисками (на английском языке)
LOCATION:50 уч.к 1319
END:VEVENT
BEGIN:VEVENT
UID:ubxp@192.168.245.71:3006
SEQUENCE:0
DTSTAMP:20260423T030937Z
DTSTART:20260305T150000Z
DTEND:20260305T164000Z
SUMMARY:Контроллинг (на английском языке)
LOCATION:50 уч.к 1325
END:VEVENT
BEGIN:VEVENT
UID:r0oq@192.168.245.71:3006
SEQUENCE:0
DTSTAMP:20260423T030937Z
DTSTART:20260306T070000Z
DTEND:20260306T084000Z
SUMMARY:Комплексная курсовая работа (на английском языке)
LOCATION:50 уч.к 1317
END:VEVENT
BEGIN:VEVENT
UID:gqjf@192.168.245.71:3006
SEQUENCE:0
DTSTAMP:20260423T030937Z
DTSTART:20260306T090000Z
DTEND:20260306T104000Z
SUMMARY:Комплексная курсовая работа (на английском языке)
LOCATION:50 уч.к 1317
END:VEVENT
BEGIN:VEVENT
UID:oyfm@192.168.245.71:3006
SEQUENCE:0
DTSTAMP:20260423T030937Z
DTSTART:20260306T110000Z
DTEND:20260306T124000Z
SUMMARY:Семинар по экономической теории (на английском языке)
LOCATION:50 уч.к 1428
END:VEVENT
BEGIN:VEVENT
UID:djeh@192.168.245.71:3006
SEQUENCE:0
DTSTAMP:20260423T030937Z
DTSTART:20260306T130000Z
DTEND:20260306T144000Z
SUMMARY:Семинар по экономической теории (на английском языке)
LOCATION:50 уч.к 1428
END:VEVENT
BEGIN:VEVENT
UID:33ed@192.168.245.71:3006
SEQUENCE:0
DTSTAMP:20260423T030937Z
DTSTART:20260307T070000Z
DTEND:20260307T084000Z
SUMMARY:Управление рисками (на английском языке)
LOCATION:50 уч.к 1248
END:VEVENT
BEGIN:VEVENT
UID:pwmy@192.168.245.71:3006
SEQUENCE:0
DTSTAMP:20260423T030937Z
DTSTART:20260307T090000Z
DTEND:20260307T104000Z
SUMMARY:Управление рисками (на английском языке)
LOCATION:50 уч.к 1248
END:VEVENT
END:VCALENDAR