BEGIN:VCALENDAR
VERSION:2.0
PRODID:-//spbstu.ru//ical//RU
NAME:Расписание группы 3733801/22901
X-WR-CALNAME:Расписание группы 3733801/22901
TIMEZONE-ID:Europe/Moscow
X-WR-TIMEZONE:Europe/Moscow
BEGIN:VEVENT
UID:4ids@192.168.245.71:3006
SEQUENCE:0
DTSTAMP:20260422T205246Z
DTSTART:20260326T110000Z
DTEND:20260326T113000Z
SUMMARY:Управление рисками (на английском языке)
LOCATION:50 уч.к 1319
END:VEVENT
BEGIN:VEVENT
UID:kryf@192.168.245.71:3006
SEQUENCE:0
DTSTAMP:20260422T205246Z
DTSTART:20260326T113000Z
DTEND:20260326T143000Z
SUMMARY:Управление рисками (на английском языке)
LOCATION:50 уч.к 1319
END:VEVENT
END:VCALENDAR