BEGIN:VCALENDAR
VERSION:2.0
PRODID:-//spbstu.ru//ical//RU
NAME:Расписание группы 3733802/20101
X-WR-CALNAME:Расписание группы 3733802/20101
TIMEZONE-ID:Europe/Moscow
X-WR-TIMEZONE:Europe/Moscow
BEGIN:VEVENT
UID:fncs@192.168.245.71:3006
SEQUENCE:0
DTSTAMP:20260425T194239Z
DTSTART:20251013T090000Z
DTEND:20251013T104000Z
SUMMARY:Технологическая (проектно-технологическая) практика (рассредоточен
 ная)
LOCATION:50 уч.к 1423
END:VEVENT
BEGIN:VEVENT
UID:xin3@192.168.245.71:3006
SEQUENCE:0
DTSTAMP:20260425T194239Z
DTSTART:20251013T110000Z
DTEND:20251013T124000Z
SUMMARY:Предпринимательство
LOCATION:50 уч.к 1326
END:VEVENT
BEGIN:VEVENT
UID:46lf@192.168.245.71:3006
SEQUENCE:0
DTSTAMP:20260425T194239Z
DTSTART:20251013T130000Z
DTEND:20251013T144000Z
SUMMARY:Кадровый менеджмент
LOCATION:50 уч.к 1326
END:VEVENT
BEGIN:VEVENT
UID:i476@192.168.245.71:3006
SEQUENCE:0
DTSTAMP:20260425T194239Z
DTSTART:20251013T150000Z
DTEND:20251013T164000Z
SUMMARY:Кадровый менеджмент
LOCATION:50 уч.к 1326
END:VEVENT
BEGIN:VEVENT
UID:n5ep@192.168.245.71:3006
SEQUENCE:0
DTSTAMP:20260425T194239Z
DTSTART:20251014T090000Z
DTEND:20251014T104000Z
SUMMARY:Управление проектами по отраслям и видам экономической деятельност
 и
LOCATION:50 уч.к 1423
END:VEVENT
BEGIN:VEVENT
UID:m3ni@192.168.245.71:3006
SEQUENCE:0
DTSTAMP:20260425T194239Z
DTSTART:20251014T110000Z
DTEND:20251014T124000Z
SUMMARY:Предпринимательство
LOCATION:50 уч.к 1208
END:VEVENT
BEGIN:VEVENT
UID:dm4h@192.168.245.71:3006
SEQUENCE:0
DTSTAMP:20260425T194239Z
DTSTART:20251014T130000Z
DTEND:20251014T144000Z
SUMMARY:Риск-менеджмент
LOCATION:50 уч.к 1327
END:VEVENT
BEGIN:VEVENT
UID:jhui@192.168.245.71:3006
SEQUENCE:0
DTSTAMP:20260425T194239Z
DTSTART:20251016T070000Z
DTEND:20251016T084000Z
SUMMARY:Международные экономические отношения
LOCATION:50 уч.к 1111
END:VEVENT
BEGIN:VEVENT
UID:kawv@192.168.245.71:3006
SEQUENCE:0
DTSTAMP:20260425T194239Z
DTSTART:20251016T090000Z
DTEND:20251016T104000Z
SUMMARY:Риск-менеджмент
LOCATION:50 уч.к 1251
END:VEVENT
BEGIN:VEVENT
UID:hau3@192.168.245.71:3006
SEQUENCE:0
DTSTAMP:20260425T194239Z
DTSTART:20251016T110000Z
DTEND:20251016T124000Z
SUMMARY:Организация\, нормирование и оплата труда на предприятии
LOCATION:50 уч.к 1423
END:VEVENT
BEGIN:VEVENT
UID:ppyo@192.168.245.71:3006
SEQUENCE:0
DTSTAMP:20260425T194239Z
DTSTART:20251017T110000Z
DTEND:20251017T124000Z
SUMMARY:Создание стартапов
LOCATION:50 уч.к 1427
END:VEVENT
BEGIN:VEVENT
UID:s5jt@192.168.245.71:3006
SEQUENCE:0
DTSTAMP:20260425T194239Z
DTSTART:20251017T130000Z
DTEND:20251017T144000Z
SUMMARY:Создание стартапов
LOCATION:50 уч.к 1427
END:VEVENT
END:VCALENDAR