BEGIN:VCALENDAR
VERSION:2.0
PRODID:-//spbstu.ru//ical//RU
NAME:Расписание группы 3733802/20101
X-WR-CALNAME:Расписание группы 3733802/20101
TIMEZONE-ID:Europe/Moscow
X-WR-TIMEZONE:Europe/Moscow
BEGIN:VEVENT
UID:wx9e@192.168.245.71:3006
SEQUENCE:0
DTSTAMP:20260424T184300Z
DTSTART:20251027T090000Z
DTEND:20251027T104000Z
SUMMARY:Технологическая (проектно-технологическая) практика (рассредоточен
 ная)
LOCATION:50 уч.к 1423
END:VEVENT
BEGIN:VEVENT
UID:p9kg@192.168.245.71:3006
SEQUENCE:0
DTSTAMP:20260424T184300Z
DTSTART:20251027T110000Z
DTEND:20251027T124000Z
SUMMARY:Предпринимательство
LOCATION:50 уч.к 1326
END:VEVENT
BEGIN:VEVENT
UID:h94n@192.168.245.71:3006
SEQUENCE:0
DTSTAMP:20260424T184300Z
DTSTART:20251027T130000Z
DTEND:20251027T144000Z
SUMMARY:Кадровый менеджмент
LOCATION:50 уч.к 1326
END:VEVENT
BEGIN:VEVENT
UID:rv6x@192.168.245.71:3006
SEQUENCE:0
DTSTAMP:20260424T184300Z
DTSTART:20251027T150000Z
DTEND:20251027T164000Z
SUMMARY:Кадровый менеджмент
LOCATION:50 уч.к 1326
END:VEVENT
BEGIN:VEVENT
UID:l75f@192.168.245.71:3006
SEQUENCE:0
DTSTAMP:20260424T184300Z
DTSTART:20251028T090000Z
DTEND:20251028T104000Z
SUMMARY:Управление проектами по отраслям и видам экономической деятельност
 и
LOCATION:50 уч.к 1423
END:VEVENT
BEGIN:VEVENT
UID:10od@192.168.245.71:3006
SEQUENCE:0
DTSTAMP:20260424T184300Z
DTSTART:20251028T110000Z
DTEND:20251028T124000Z
SUMMARY:Предпринимательство
LOCATION:50 уч.к 1208
END:VEVENT
BEGIN:VEVENT
UID:3qa6@192.168.245.71:3006
SEQUENCE:0
DTSTAMP:20260424T184300Z
DTSTART:20251028T130000Z
DTEND:20251028T144000Z
SUMMARY:Риск-менеджмент
LOCATION:50 уч.к 1327
END:VEVENT
BEGIN:VEVENT
UID:7zj4@192.168.245.71:3006
SEQUENCE:0
DTSTAMP:20260424T184300Z
DTSTART:20251030T070000Z
DTEND:20251030T084000Z
SUMMARY:Международные экономические отношения
LOCATION:50 уч.к 1111
END:VEVENT
BEGIN:VEVENT
UID:uk5w@192.168.245.71:3006
SEQUENCE:0
DTSTAMP:20260424T184300Z
DTSTART:20251030T090000Z
DTEND:20251030T104000Z
SUMMARY:Риск-менеджмент
LOCATION:50 уч.к 1251
END:VEVENT
BEGIN:VEVENT
UID:l96l@192.168.245.71:3006
SEQUENCE:0
DTSTAMP:20260424T184300Z
DTSTART:20251030T110000Z
DTEND:20251030T124000Z
SUMMARY:Организация\, нормирование и оплата труда на предприятии
LOCATION:50 уч.к 1423
END:VEVENT
BEGIN:VEVENT
UID:rnc4@192.168.245.71:3006
SEQUENCE:0
DTSTAMP:20260424T184300Z
DTSTART:20251031T110000Z
DTEND:20251031T124000Z
SUMMARY:Создание стартапов
LOCATION:50 уч.к 1427
END:VEVENT
BEGIN:VEVENT
UID:xd38@192.168.245.71:3006
SEQUENCE:0
DTSTAMP:20260424T184300Z
DTSTART:20251031T130000Z
DTEND:20251031T144000Z
SUMMARY:Создание стартапов
LOCATION:50 уч.к 1427
END:VEVENT
END:VCALENDAR