BEGIN:VCALENDAR
VERSION:2.0
PRODID:-//spbstu.ru//ical//RU
NAME:Расписание группы 3733802/20101
X-WR-CALNAME:Расписание группы 3733802/20101
TIMEZONE-ID:Europe/Moscow
X-WR-TIMEZONE:Europe/Moscow
BEGIN:VEVENT
UID:6kej@192.168.245.71:3006
SEQUENCE:0
DTSTAMP:20260424T145534Z
DTSTART:20251124T090000Z
DTEND:20251124T104000Z
SUMMARY:Технологическая (проектно-технологическая) практика (рассредоточен
 ная)
LOCATION:50 уч.к 1423
END:VEVENT
BEGIN:VEVENT
UID:bm8u@192.168.245.71:3006
SEQUENCE:0
DTSTAMP:20260424T145534Z
DTSTART:20251124T110000Z
DTEND:20251124T124000Z
SUMMARY:Предпринимательство
LOCATION:50 уч.к 1326
END:VEVENT
BEGIN:VEVENT
UID:w9w3@192.168.245.71:3006
SEQUENCE:0
DTSTAMP:20260424T145534Z
DTSTART:20251124T130000Z
DTEND:20251124T144000Z
SUMMARY:Кадровый менеджмент
LOCATION:50 уч.к 1326
END:VEVENT
BEGIN:VEVENT
UID:3u5f@192.168.245.71:3006
SEQUENCE:0
DTSTAMP:20260424T145534Z
DTSTART:20251124T150000Z
DTEND:20251124T164000Z
SUMMARY:Кадровый менеджмент
LOCATION:50 уч.к 1326
END:VEVENT
BEGIN:VEVENT
UID:42z1@192.168.245.71:3006
SEQUENCE:0
DTSTAMP:20260424T145534Z
DTSTART:20251125T090000Z
DTEND:20251125T104000Z
SUMMARY:Управление проектами по отраслям и видам экономической деятельност
 и
LOCATION:50 уч.к 1423
END:VEVENT
BEGIN:VEVENT
UID:8y6q@192.168.245.71:3006
SEQUENCE:0
DTSTAMP:20260424T145534Z
DTSTART:20251125T110000Z
DTEND:20251125T124000Z
SUMMARY:Предпринимательство
LOCATION:50 уч.к 1208
END:VEVENT
BEGIN:VEVENT
UID:mo9h@192.168.245.71:3006
SEQUENCE:0
DTSTAMP:20260424T145534Z
DTSTART:20251125T130000Z
DTEND:20251125T144000Z
SUMMARY:Риск-менеджмент
LOCATION:50 уч.к 1327
END:VEVENT
BEGIN:VEVENT
UID:sw8s@192.168.245.71:3006
SEQUENCE:0
DTSTAMP:20260424T145534Z
DTSTART:20251127T070000Z
DTEND:20251127T084000Z
SUMMARY:Международные экономические отношения
LOCATION:50 уч.к 1111
END:VEVENT
BEGIN:VEVENT
UID:v8sl@192.168.245.71:3006
SEQUENCE:0
DTSTAMP:20260424T145534Z
DTSTART:20251127T090000Z
DTEND:20251127T104000Z
SUMMARY:Риск-менеджмент
LOCATION:50 уч.к 1251
END:VEVENT
BEGIN:VEVENT
UID:60a5@192.168.245.71:3006
SEQUENCE:0
DTSTAMP:20260424T145534Z
DTSTART:20251127T110000Z
DTEND:20251127T124000Z
SUMMARY:Организация\, нормирование и оплата труда на предприятии
LOCATION:50 уч.к 1423
END:VEVENT
BEGIN:VEVENT
UID:gjpn@192.168.245.71:3006
SEQUENCE:0
DTSTAMP:20260424T145534Z
DTSTART:20251128T110000Z
DTEND:20251128T124000Z
SUMMARY:Создание стартапов
LOCATION:50 уч.к 1427
END:VEVENT
BEGIN:VEVENT
UID:22ft@192.168.245.71:3006
SEQUENCE:0
DTSTAMP:20260424T145534Z
DTSTART:20251128T130000Z
DTEND:20251128T144000Z
SUMMARY:Создание стартапов
LOCATION:50 уч.к 1427
END:VEVENT
END:VCALENDAR