BEGIN:VCALENDAR
VERSION:2.0
PRODID:-//spbstu.ru//ical//RU
NAME:Расписание группы 3733802/20101
X-WR-CALNAME:Расписание группы 3733802/20101
TIMEZONE-ID:Europe/Moscow
X-WR-TIMEZONE:Europe/Moscow
BEGIN:VEVENT
UID:563a@192.168.245.71:3006
SEQUENCE:0
DTSTAMP:20260424T184026Z
DTSTART:20251103T090000Z
DTEND:20251103T104000Z
SUMMARY:Цифровые технологии бизнеса
LOCATION:50 уч.к 1107
END:VEVENT
BEGIN:VEVENT
UID:vi8x@192.168.245.71:3006
SEQUENCE:0
DTSTAMP:20260424T184026Z
DTSTART:20251103T110000Z
DTEND:20251103T124000Z
SUMMARY:Предпринимательство
LOCATION:50 уч.к 1326
END:VEVENT
BEGIN:VEVENT
UID:9e5h@192.168.245.71:3006
SEQUENCE:0
DTSTAMP:20260424T184026Z
DTSTART:20251103T130000Z
DTEND:20251103T144000Z
SUMMARY:Кадровый менеджмент
LOCATION:DL Дистанционно
END:VEVENT
BEGIN:VEVENT
UID:uplg@192.168.245.71:3006
SEQUENCE:0
DTSTAMP:20260424T184026Z
DTSTART:20251103T150000Z
DTEND:20251103T164000Z
SUMMARY:Кадровый менеджмент
LOCATION:DL Дистанционно
END:VEVENT
BEGIN:VEVENT
UID:a04h@192.168.245.71:3006
SEQUENCE:0
DTSTAMP:20260424T184026Z
DTSTART:20251106T050000Z
DTEND:20251106T064000Z
SUMMARY:Цифровые технологии бизнеса
LOCATION:50 уч.к 1111
END:VEVENT
BEGIN:VEVENT
UID:mbsw@192.168.245.71:3006
SEQUENCE:0
DTSTAMP:20260424T184026Z
DTSTART:20251106T070000Z
DTEND:20251106T084000Z
SUMMARY:Управление проектами по отраслям и видам экономической деятельност
 и
LOCATION:50 уч.к 1111
END:VEVENT
BEGIN:VEVENT
UID:5gpi@192.168.245.71:3006
SEQUENCE:0
DTSTAMP:20260424T184026Z
DTSTART:20251106T090000Z
DTEND:20251106T104000Z
SUMMARY:Организация\, нормирование и оплата труда на предприятии
LOCATION:50 уч.к 1423
END:VEVENT
BEGIN:VEVENT
UID:mtea@192.168.245.71:3006
SEQUENCE:0
DTSTAMP:20260424T184026Z
DTSTART:20251106T110000Z
DTEND:20251106T124000Z
SUMMARY:Организация\, нормирование и оплата труда на предприятии
LOCATION:50 уч.к 1423
END:VEVENT
END:VCALENDAR