BEGIN:VCALENDAR
VERSION:2.0
PRODID:-//spbstu.ru//ical//RU
NAME:Расписание группы 3733802/20101
X-WR-CALNAME:Расписание группы 3733802/20101
TIMEZONE-ID:Europe/Moscow
X-WR-TIMEZONE:Europe/Moscow
BEGIN:VEVENT
UID:9p4d@192.168.245.71:3006
SEQUENCE:0
DTSTAMP:20260422T104903Z
DTSTART:20260317T090000Z
DTEND:20260317T104000Z
SUMMARY:Комплексная проектная работа
LOCATION:50 уч.к 1230
END:VEVENT
BEGIN:VEVENT
UID:krto@192.168.245.71:3006
SEQUENCE:0
DTSTAMP:20260422T104903Z
DTSTART:20260319T090000Z
DTEND:20260319T104000Z
SUMMARY:Основы корпоративного управления
LOCATION:50 уч.к 1112
END:VEVENT
BEGIN:VEVENT
UID:srml@192.168.245.71:3006
SEQUENCE:0
DTSTAMP:20260422T104903Z
DTSTART:20260319T110000Z
DTEND:20260319T124000Z
SUMMARY:Стратегический маркетинг
LOCATION:50 уч.к 1317
END:VEVENT
END:VCALENDAR