BEGIN:VCALENDAR
VERSION:2.0
PRODID:-//spbstu.ru//ical//RU
NAME:Расписание группы 3733802/20501
X-WR-CALNAME:Расписание группы 3733802/20501
TIMEZONE-ID:Europe/Moscow
X-WR-TIMEZONE:Europe/Moscow
BEGIN:VEVENT
UID:sq6g@192.168.245.71:3006
SEQUENCE:0
DTSTAMP:20260421T132739Z
DTSTART:20260414T090000Z
DTEND:20260414T093000Z
SUMMARY:Возобновляемые источники энергии
LOCATION:50 уч.к 1242
END:VEVENT
BEGIN:VEVENT
UID:fele@192.168.245.71:3006
SEQUENCE:0
DTSTAMP:20260421T132739Z
DTSTART:20260414T093000Z
DTEND:20260414T123000Z
SUMMARY:Возобновляемые источники энергии
LOCATION:50 уч.к 1242
END:VEVENT
END:VCALENDAR