BEGIN:VCALENDAR
VERSION:2.0
PRODID:-//spbstu.ru//ical//RU
NAME:Расписание группы 3733802/20801
X-WR-CALNAME:Расписание группы 3733802/20801
TIMEZONE-ID:Europe/Moscow
X-WR-TIMEZONE:Europe/Moscow
BEGIN:VEVENT
UID:em5y@192.168.245.71:3006
SEQUENCE:0
DTSTAMP:20260424T155846Z
DTSTART:20251208T110000Z
DTEND:20251208T124000Z
SUMMARY:Анализ и планирование затрат в маркетинге
LOCATION:50 уч.к 1103
END:VEVENT
BEGIN:VEVENT
UID:tm9n@192.168.245.71:3006
SEQUENCE:0
DTSTAMP:20260424T155846Z
DTSTART:20251208T130000Z
DTEND:20251208T144000Z
SUMMARY:Анализ и планирование затрат в маркетинге
LOCATION:50 уч.к 1103
END:VEVENT
BEGIN:VEVENT
UID:qk17@192.168.245.71:3006
SEQUENCE:0
DTSTAMP:20260424T155846Z
DTSTART:20251209T070000Z
DTEND:20251209T084000Z
SUMMARY:Управление проектами по отраслям и видам экономической деятельност
 и
LOCATION:50 уч.к 1423
END:VEVENT
BEGIN:VEVENT
UID:otva@192.168.245.71:3006
SEQUENCE:0
DTSTAMP:20260424T155846Z
DTSTART:20251209T090000Z
DTEND:20251209T104000Z
SUMMARY:Анализ и планирование затрат в маркетинге
LOCATION:50 уч.к 1234
END:VEVENT
BEGIN:VEVENT
UID:bm4v@192.168.245.71:3006
SEQUENCE:0
DTSTAMP:20260424T155846Z
DTSTART:20251209T110000Z
DTEND:20251209T124000Z
SUMMARY:Поведение потребителей
LOCATION:50 уч.к 1428
END:VEVENT
BEGIN:VEVENT
UID:n6fp@192.168.245.71:3006
SEQUENCE:0
DTSTAMP:20260424T155846Z
DTSTART:20251209T130000Z
DTEND:20251209T144000Z
SUMMARY:Поведение потребителей
LOCATION:50 уч.к 1426
END:VEVENT
BEGIN:VEVENT
UID:28vz@192.168.245.71:3006
SEQUENCE:0
DTSTAMP:20260424T155846Z
DTSTART:20251210T110000Z
DTEND:20251210T124000Z
SUMMARY:Интерактивный маркетинг
LOCATION:50 уч.к 1243
END:VEVENT
BEGIN:VEVENT
UID:khjf@192.168.245.71:3006
SEQUENCE:0
DTSTAMP:20260424T155846Z
DTSTART:20251210T130000Z
DTEND:20251210T144000Z
SUMMARY:Интерактивный маркетинг
LOCATION:50 уч.к 1243
END:VEVENT
BEGIN:VEVENT
UID:r3uw@192.168.245.71:3006
SEQUENCE:0
DTSTAMP:20260424T155846Z
DTSTART:20251211T070000Z
DTEND:20251211T084000Z
SUMMARY:Международные экономические отношения
LOCATION:50 уч.к 1111
END:VEVENT
BEGIN:VEVENT
UID:a20a@192.168.245.71:3006
SEQUENCE:0
DTSTAMP:20260424T155846Z
DTSTART:20251211T090000Z
DTEND:20251211T104000Z
SUMMARY:Информационная поддержка маркетинга
LOCATION:50 уч.к 1104
END:VEVENT
BEGIN:VEVENT
UID:2wfh@192.168.245.71:3006
SEQUENCE:0
DTSTAMP:20260424T155846Z
DTSTART:20251211T110000Z
DTEND:20251211T124000Z
SUMMARY:Информационная поддержка маркетинга
LOCATION:50 уч.к 1428
END:VEVENT
END:VCALENDAR