BEGIN:VCALENDAR
VERSION:2.0
PRODID:-//spbstu.ru//ical//RU
NAME:Расписание группы 3733802/23401
X-WR-CALNAME:Расписание группы 3733802/23401
TIMEZONE-ID:Europe/Moscow
X-WR-TIMEZONE:Europe/Moscow
BEGIN:VEVENT
UID:r0vq@192.168.245.71:3006
SEQUENCE:0
DTSTAMP:20260425T225945Z
DTSTART:20251201T110000Z
DTEND:20251201T124000Z
SUMMARY:Автоматизация систем управления нефтегазовыми технологическими про
 цессами
LOCATION:50 уч.к 1103
END:VEVENT
BEGIN:VEVENT
UID:2me2@192.168.245.71:3006
SEQUENCE:0
DTSTAMP:20260425T225945Z
DTSTART:20251201T130000Z
DTEND:20251201T144000Z
SUMMARY:Автоматизация систем управления нефтегазовыми технологическими про
 цессами
LOCATION:50 уч.к 1103
END:VEVENT
BEGIN:VEVENT
UID:1a3b@192.168.245.71:3006
SEQUENCE:0
DTSTAMP:20260425T225945Z
DTSTART:20251203T050000Z
DTEND:20251203T064000Z
SUMMARY:Цифровые технологии бизнеса
LOCATION:50 уч.к 1111
END:VEVENT
BEGIN:VEVENT
UID:oh5e@192.168.245.71:3006
SEQUENCE:0
DTSTAMP:20260425T225945Z
DTSTART:20251203T070000Z
DTEND:20251203T084000Z
SUMMARY:Управление нефтесервисными предприятиями
LOCATION:50 уч.к 1324
END:VEVENT
BEGIN:VEVENT
UID:kbcm@192.168.245.71:3006
SEQUENCE:0
DTSTAMP:20260425T225945Z
DTSTART:20251203T090000Z
DTEND:20251203T104000Z
SUMMARY:Управление нефтесервисными предприятиями
LOCATION:50 уч.к 1318
END:VEVENT
BEGIN:VEVENT
UID:nin9@192.168.245.71:3006
SEQUENCE:0
DTSTAMP:20260425T225945Z
DTSTART:20251204T110000Z
DTEND:20251204T124000Z
SUMMARY:Научно-технологическое обеспечение нефтегазовых предприятий
LOCATION:50 уч.к 1428
END:VEVENT
BEGIN:VEVENT
UID:fy22@192.168.245.71:3006
SEQUENCE:0
DTSTAMP:20260425T225945Z
DTSTART:20251204T130000Z
DTEND:20251204T144000Z
SUMMARY:Научно-технологическое обеспечение нефтегазовых предприятий
LOCATION:50 уч.к 1428
END:VEVENT
BEGIN:VEVENT
UID:vpp5@192.168.245.71:3006
SEQUENCE:0
DTSTAMP:20260425T225945Z
DTSTART:20251205T090000Z
DTEND:20251205T104000Z
SUMMARY:Международные экономические отношения
LOCATION:50 уч.к 1230
END:VEVENT
BEGIN:VEVENT
UID:glf0@192.168.245.71:3006
SEQUENCE:0
DTSTAMP:20260425T225945Z
DTSTART:20251205T110000Z
DTEND:20251205T124000Z
SUMMARY:Управление проектами по отраслям и видам экономической деятельност
 и
LOCATION:50 уч.к 1243
END:VEVENT
BEGIN:VEVENT
UID:iif1@192.168.245.71:3006
SEQUENCE:0
DTSTAMP:20260425T225945Z
DTSTART:20251205T130000Z
DTEND:20251205T144000Z
SUMMARY:Маркетинг и продажи продукции нефтепереработки
LOCATION:50 уч.к 1318
END:VEVENT
END:VCALENDAR