BEGIN:VCALENDAR
VERSION:2.0
PRODID:-//spbstu.ru//ical//RU
NAME:Расписание группы 3733802/23401
X-WR-CALNAME:Расписание группы 3733802/23401
TIMEZONE-ID:Europe/Moscow
X-WR-TIMEZONE:Europe/Moscow
BEGIN:VEVENT
UID:fw23@192.168.245.71:3006
SEQUENCE:0
DTSTAMP:20260425T225752Z
DTSTART:20251208T110000Z
DTEND:20251208T124000Z
SUMMARY:Автоматизация систем управления нефтегазовыми технологическими про
 цессами
LOCATION:50 уч.к 1217
END:VEVENT
BEGIN:VEVENT
UID:lbcd@192.168.245.71:3006
SEQUENCE:0
DTSTAMP:20260425T225752Z
DTSTART:20251208T130000Z
DTEND:20251208T144000Z
SUMMARY:Автоматизация систем управления нефтегазовыми технологическими про
 цессами
LOCATION:50 уч.к 1217
END:VEVENT
BEGIN:VEVENT
UID:1nv6@192.168.245.71:3006
SEQUENCE:0
DTSTAMP:20260425T225752Z
DTSTART:20251210T070000Z
DTEND:20251210T084000Z
SUMMARY:Цифровые технологии бизнеса
LOCATION:50 уч.к 1204
END:VEVENT
BEGIN:VEVENT
UID:5xp9@192.168.245.71:3006
SEQUENCE:0
DTSTAMP:20260425T225752Z
DTSTART:20251210T090000Z
DTEND:20251210T104000Z
SUMMARY:Управление проектами по отраслям и видам экономической деятельност
 и
LOCATION:50 уч.к 1318
END:VEVENT
BEGIN:VEVENT
UID:zeji@192.168.245.71:3006
SEQUENCE:0
DTSTAMP:20260425T225752Z
DTSTART:20251210T110000Z
DTEND:20251210T124000Z
SUMMARY:Маркетинг и продажи продукции нефтепереработки
LOCATION:50 уч.к 1318
END:VEVENT
BEGIN:VEVENT
UID:8ra1@192.168.245.71:3006
SEQUENCE:0
DTSTAMP:20260425T225752Z
DTSTART:20251210T130000Z
DTEND:20251210T144000Z
SUMMARY:Маркетинг и продажи продукции нефтепереработки
LOCATION:50 уч.к 1318
END:VEVENT
BEGIN:VEVENT
UID:a85p@192.168.245.71:3006
SEQUENCE:0
DTSTAMP:20260425T225752Z
DTSTART:20251212T110000Z
DTEND:20251212T124000Z
SUMMARY:Международные экономические отношения
LOCATION:50 уч.к 1243
END:VEVENT
BEGIN:VEVENT
UID:nhuw@192.168.245.71:3006
SEQUENCE:0
DTSTAMP:20260425T225752Z
DTSTART:20251212T130000Z
DTEND:20251212T144000Z
SUMMARY:Технологическая (проектно-технологическая) практика (рассредоточен
 ная)
LOCATION:50 уч.к 1325
END:VEVENT
END:VCALENDAR