BEGIN:VCALENDAR
VERSION:2.0
PRODID:-//spbstu.ru//ical//RU
NAME:Расписание группы 3733802/23401
X-WR-CALNAME:Расписание группы 3733802/23401
TIMEZONE-ID:Europe/Moscow
X-WR-TIMEZONE:Europe/Moscow
BEGIN:VEVENT
UID:3izm@192.168.245.71:3006
SEQUENCE:0
DTSTAMP:20260424T050222Z
DTSTART:20260202T070000Z
DTEND:20260202T084000Z
SUMMARY:Комплексная проектная работа
LOCATION:50 уч.к 1223
END:VEVENT
BEGIN:VEVENT
UID:hus5@192.168.245.71:3006
SEQUENCE:0
DTSTAMP:20260424T050222Z
DTSTART:20260202T090000Z
DTEND:20260202T104000Z
SUMMARY:Комплексная проектная работа
LOCATION:50 уч.к 1242
END:VEVENT
BEGIN:VEVENT
UID:x1i1@192.168.245.71:3006
SEQUENCE:0
DTSTAMP:20260424T050222Z
DTSTART:20260202T110000Z
DTEND:20260202T124000Z
SUMMARY:Цифровые технологии на нефтегазовых предприятиях
LOCATION:50 уч.к 1424
END:VEVENT
BEGIN:VEVENT
UID:e5cp@192.168.245.71:3006
SEQUENCE:0
DTSTAMP:20260424T050222Z
DTSTART:20260202T130000Z
DTEND:20260202T144000Z
SUMMARY:Цифровые технологии на нефтегазовых предприятиях
LOCATION:50 уч.к 1210
END:VEVENT
BEGIN:VEVENT
UID:n5ej@192.168.245.71:3006
SEQUENCE:0
DTSTAMP:20260424T050222Z
DTSTART:20260205T110000Z
DTEND:20260205T124000Z
SUMMARY:Экология и природопользование нефтегазовых предприятий
LOCATION:50 уч.к 1113
END:VEVENT
BEGIN:VEVENT
UID:kztd@192.168.245.71:3006
SEQUENCE:0
DTSTAMP:20260424T050222Z
DTSTART:20260205T130000Z
DTEND:20260205T144000Z
SUMMARY:Экология и природопользование нефтегазовых предприятий
LOCATION:50 уч.к 1113
END:VEVENT
END:VCALENDAR