BEGIN:VCALENDAR
VERSION:2.0
PRODID:-//spbstu.ru//ical//RU
NAME:Расписание группы 3733802/23401
X-WR-CALNAME:Расписание группы 3733802/23401
TIMEZONE-ID:Europe/Moscow
X-WR-TIMEZONE:Europe/Moscow
BEGIN:VEVENT
UID:59p6@192.168.245.71:3006
SEQUENCE:0
DTSTAMP:20260422T205032Z
DTSTART:20260413T060000Z
DTEND:20260413T090000Z
SUMMARY:Комплексная проектная работа
LOCATION:50 уч.к 1318
END:VEVENT
END:VCALENDAR