BEGIN:VCALENDAR
VERSION:2.0
PRODID:-//spbstu.ru//ical//RU
NAME:Расписание группы 3733804/20102
X-WR-CALNAME:Расписание группы 3733804/20102
TIMEZONE-ID:Europe/Moscow
X-WR-TIMEZONE:Europe/Moscow
BEGIN:VEVENT
UID:6358@192.168.245.71:3006
SEQUENCE:0
DTSTAMP:20260421T155108Z
DTSTART:20260330T070000Z
DTEND:20260330T084000Z
SUMMARY:Тренинг коммуникативной компетентности государственных и муниципал
 ьных служащих
LOCATION:50 уч.к 1115
END:VEVENT
BEGIN:VEVENT
UID:qprm@192.168.245.71:3006
SEQUENCE:0
DTSTAMP:20260421T155108Z
DTSTART:20260330T090000Z
DTEND:20260330T104000Z
SUMMARY:Тренинг коммуникативной компетентности государственных и муниципал
 ьных служащих
LOCATION:50 уч.к 1115
END:VEVENT
BEGIN:VEVENT
UID:d6u1@192.168.245.71:3006
SEQUENCE:0
DTSTAMP:20260421T155108Z
DTSTART:20260330T110000Z
DTEND:20260330T124000Z
SUMMARY:Государственное управление инвестициями и инновациями
LOCATION:50 уч.к 1426
END:VEVENT
BEGIN:VEVENT
UID:1o70@192.168.245.71:3006
SEQUENCE:0
DTSTAMP:20260421T155108Z
DTSTART:20260331T090000Z
DTEND:20260331T104000Z
SUMMARY:Анализ и оценка программ и отраслевых политик
LOCATION:50 уч.к 1113
END:VEVENT
BEGIN:VEVENT
UID:k9uc@192.168.245.71:3006
SEQUENCE:0
DTSTAMP:20260421T155108Z
DTSTART:20260331T110000Z
DTEND:20260331T124000Z
SUMMARY:Анализ и оценка программ и отраслевых политик
LOCATION:50 уч.к 1328
END:VEVENT
BEGIN:VEVENT
UID:aapy@192.168.245.71:3006
SEQUENCE:0
DTSTAMP:20260421T155108Z
DTSTART:20260401T110000Z
DTEND:20260401T124000Z
SUMMARY:Анализ и оценка программ и отраслевых политик
LOCATION:50 уч.к 1422
END:VEVENT
BEGIN:VEVENT
UID:zlol@192.168.245.71:3006
SEQUENCE:0
DTSTAMP:20260421T155108Z
DTSTART:20260404T090000Z
DTEND:20260404T104000Z
SUMMARY:Основы разработки нормативно-правовых актов
LOCATION:50 уч.к 1219
END:VEVENT
END:VCALENDAR