BEGIN:VCALENDAR
VERSION:2.0
PRODID:-//spbstu.ru//ical//RU
NAME:Расписание группы 3733805/20102
X-WR-CALNAME:Расписание группы 3733805/20102
TIMEZONE-ID:Europe/Moscow
X-WR-TIMEZONE:Europe/Moscow
BEGIN:VEVENT
UID:99tx@192.168.245.71:3006
SEQUENCE:0
DTSTAMP:20260425T004048Z
DTSTART:20251014T090000Z
DTEND:20251014T104000Z
SUMMARY:Проектное управление
LOCATION:50 уч.к 1245
END:VEVENT
BEGIN:VEVENT
UID:w2ei@192.168.245.71:3006
SEQUENCE:0
DTSTAMP:20260425T004048Z
DTSTART:20251014T110000Z
DTEND:20251014T124000Z
SUMMARY:Управление инвестициями в корпоративную архитектуру
LOCATION:50 уч.к 1214
END:VEVENT
BEGIN:VEVENT
UID:ewtl@192.168.245.71:3006
SEQUENCE:0
DTSTAMP:20260425T004048Z
DTSTART:20251015T070000Z
DTEND:20251015T084000Z
SUMMARY:Управление ИТ-сервисами
LOCATION:50 уч.к 1231
END:VEVENT
BEGIN:VEVENT
UID:x6p4@192.168.245.71:3006
SEQUENCE:0
DTSTAMP:20260425T004048Z
DTSTART:20251015T090000Z
DTEND:20251015T104000Z
SUMMARY:Системы поддержки принятия решений
LOCATION:50 уч.к 1103
END:VEVENT
BEGIN:VEVENT
UID:p8cs@192.168.245.71:3006
SEQUENCE:0
DTSTAMP:20260425T004048Z
DTSTART:20251015T110000Z
DTEND:20251015T124000Z
SUMMARY:Проектное управление
LOCATION:50 уч.к 1104
END:VEVENT
BEGIN:VEVENT
UID:h12r@192.168.245.71:3006
SEQUENCE:0
DTSTAMP:20260425T004048Z
DTSTART:20251016T050000Z
DTEND:20251016T064000Z
SUMMARY:Проектирование комплексных архитектурных решений
LOCATION:50 уч.к 1341
END:VEVENT
BEGIN:VEVENT
UID:0hpx@192.168.245.71:3006
SEQUENCE:0
DTSTAMP:20260425T004048Z
DTSTART:20251016T070000Z
DTEND:20251016T084000Z
SUMMARY:Системы поддержки принятия решений
LOCATION:50 уч.к 1432
END:VEVENT
BEGIN:VEVENT
UID:yho7@192.168.245.71:3006
SEQUENCE:0
DTSTAMP:20260425T004048Z
DTSTART:20251016T090000Z
DTEND:20251016T104000Z
SUMMARY:Управление инвестициями в корпоративную архитектуру
LOCATION:50 уч.к 1205
END:VEVENT
BEGIN:VEVENT
UID:snfq@192.168.245.71:3006
SEQUENCE:0
DTSTAMP:20260425T004048Z
DTSTART:20251016T110000Z
DTEND:20251016T124000Z
SUMMARY:Управление ИТ-сервисами
LOCATION:50 уч.к 1432
END:VEVENT
BEGIN:VEVENT
UID:vs4f@192.168.245.71:3006
SEQUENCE:0
DTSTAMP:20260425T004048Z
DTSTART:20251018T070000Z
DTEND:20251018T084000Z
SUMMARY:Проектирование комплексных архитектурных решений
LOCATION:50 уч.к 1104
END:VEVENT
BEGIN:VEVENT
UID:kqcy@192.168.245.71:3006
SEQUENCE:0
DTSTAMP:20260425T004048Z
DTSTART:20251018T090000Z
DTEND:20251018T104000Z
SUMMARY:Web- технологии
LOCATION:50 уч.к 1103
END:VEVENT
END:VCALENDAR