BEGIN:VCALENDAR
VERSION:2.0
PRODID:-//spbstu.ru//ical//RU
NAME:Расписание группы 3733805/20102
X-WR-CALNAME:Расписание группы 3733805/20102
TIMEZONE-ID:Europe/Moscow
X-WR-TIMEZONE:Europe/Moscow
BEGIN:VEVENT
UID:64w8@192.168.245.71:3006
SEQUENCE:0
DTSTAMP:20260422T205204Z
DTSTART:20260112T110000Z
DTEND:20260112T120000Z
SUMMARY:Системы поддержки принятия решений
LOCATION:50 уч.к 1243
END:VEVENT
BEGIN:VEVENT
UID:iyg3@192.168.245.71:3006
SEQUENCE:0
DTSTAMP:20260422T205204Z
DTSTART:20260113T110000Z
DTEND:20260113T143000Z
SUMMARY:Системы поддержки принятия решений
LOCATION:50 уч.к 1317
END:VEVENT
BEGIN:VEVENT
UID:z9w9@192.168.245.71:3006
SEQUENCE:0
DTSTAMP:20260422T205204Z
DTSTART:20260114T090000Z
DTEND:20260114T100000Z
SUMMARY:Проектное управление
LOCATION:50 уч.к 1243
END:VEVENT
BEGIN:VEVENT
UID:tjdp@192.168.245.71:3006
SEQUENCE:0
DTSTAMP:20260422T205204Z
DTSTART:20260116T070000Z
DTEND:20260116T100000Z
SUMMARY:Проектное управление
LOCATION:50 уч.к 1326
END:VEVENT
END:VCALENDAR