BEGIN:VCALENDAR
VERSION:2.0
PRODID:-//spbstu.ru//ical//RU
NAME:Расписание группы 3733805/20102
X-WR-CALNAME:Расписание группы 3733805/20102
TIMEZONE-ID:Europe/Moscow
X-WR-TIMEZONE:Europe/Moscow
BEGIN:VEVENT
UID:dd5k@192.168.245.71:3006
SEQUENCE:0
DTSTAMP:20260422T204147Z
DTSTART:20260120T090000Z
DTEND:20260120T100000Z
SUMMARY:Управление ИТ-сервисами
LOCATION:50 уч.к 1432
END:VEVENT
BEGIN:VEVENT
UID:ymfj@192.168.245.71:3006
SEQUENCE:0
DTSTAMP:20260422T204147Z
DTSTART:20260121T110000Z
DTEND:20260121T143000Z
SUMMARY:Управление ИТ-сервисами
LOCATION:50 уч.к 1234
END:VEVENT
END:VCALENDAR