BEGIN:VCALENDAR
VERSION:2.0
PRODID:-//spbstu.ru//ical//RU
NAME:Расписание группы 3733805/20102
X-WR-CALNAME:Расписание группы 3733805/20102
TIMEZONE-ID:Europe/Moscow
X-WR-TIMEZONE:Europe/Moscow
BEGIN:VEVENT
UID:s371@192.168.245.71:3006
SEQUENCE:0
DTSTAMP:20260422T121332Z
DTSTART:20260202T070000Z
DTEND:20260202T084000Z
SUMMARY:Управление инновациями
LOCATION:50 уч.к 1245
END:VEVENT
BEGIN:VEVENT
UID:nb8x@192.168.245.71:3006
SEQUENCE:0
DTSTAMP:20260422T121332Z
DTSTART:20260202T090000Z
DTEND:20260202T104000Z
SUMMARY:Информационная безопасность
LOCATION:50 уч.к 1245
END:VEVENT
BEGIN:VEVENT
UID:811d@192.168.245.71:3006
SEQUENCE:0
DTSTAMP:20260422T121332Z
DTSTART:20260202T110000Z
DTEND:20260202T124000Z
SUMMARY:Информационная безопасность
LOCATION:50 уч.к 1245
END:VEVENT
BEGIN:VEVENT
UID:gx45@192.168.245.71:3006
SEQUENCE:0
DTSTAMP:20260422T121332Z
DTSTART:20260203T110000Z
DTEND:20260203T124000Z
SUMMARY:Информационная безопасность
LOCATION:50 уч.к 1336
END:VEVENT
BEGIN:VEVENT
UID:45wh@192.168.245.71:3006
SEQUENCE:0
DTSTAMP:20260422T121332Z
DTSTART:20260204T090000Z
DTEND:20260204T104000Z
SUMMARY:Управление инновациями
LOCATION:50 уч.к 1110
END:VEVENT
BEGIN:VEVENT
UID:m65b@192.168.245.71:3006
SEQUENCE:0
DTSTAMP:20260422T121332Z
DTSTART:20260204T150000Z
DTEND:20260204T164000Z
SUMMARY:Комплексная проектная работа
LOCATION:50 уч.к 1249
END:VEVENT
END:VCALENDAR