BEGIN:VCALENDAR
VERSION:2.0
PRODID:-//spbstu.ru//ical//RU
NAME:Расписание группы 3733805/20102
X-WR-CALNAME:Расписание группы 3733805/20102
TIMEZONE-ID:Europe/Moscow
X-WR-TIMEZONE:Europe/Moscow
BEGIN:VEVENT
UID:xlt9@192.168.245.71:3006
SEQUENCE:0
DTSTAMP:20260422T034552Z
DTSTART:20260302T070000Z
DTEND:20260302T084000Z
SUMMARY:Управление инновациями
LOCATION:50 уч.к 1245
END:VEVENT
BEGIN:VEVENT
UID:ov1h@192.168.245.71:3006
SEQUENCE:0
DTSTAMP:20260422T034552Z
DTSTART:20260302T090000Z
DTEND:20260302T104000Z
SUMMARY:Информационная безопасность
LOCATION:50 уч.к 1245
END:VEVENT
BEGIN:VEVENT
UID:tsvn@192.168.245.71:3006
SEQUENCE:0
DTSTAMP:20260422T034552Z
DTSTART:20260302T110000Z
DTEND:20260302T124000Z
SUMMARY:Информационная безопасность
LOCATION:50 уч.к 1245
END:VEVENT
BEGIN:VEVENT
UID:811u@192.168.245.71:3006
SEQUENCE:0
DTSTAMP:20260422T034552Z
DTSTART:20260303T110000Z
DTEND:20260303T124000Z
SUMMARY:Информационная безопасность
LOCATION:50 уч.к 1336
END:VEVENT
BEGIN:VEVENT
UID:iq9c@192.168.245.71:3006
SEQUENCE:0
DTSTAMP:20260422T034552Z
DTSTART:20260304T090000Z
DTEND:20260304T104000Z
SUMMARY:Управление инновациями
LOCATION:50 уч.к 1110
END:VEVENT
BEGIN:VEVENT
UID:k7m8@192.168.245.71:3006
SEQUENCE:0
DTSTAMP:20260422T034552Z
DTSTART:20260305T090000Z
DTEND:20260305T104000Z
SUMMARY:Комплексная проектная работа
LOCATION:50 уч.к 1317
END:VEVENT
BEGIN:VEVENT
UID:6u3h@192.168.245.71:3006
SEQUENCE:0
DTSTAMP:20260422T034552Z
DTSTART:20260305T110000Z
DTEND:20260305T124000Z
SUMMARY:Комплексная проектная работа
LOCATION:50 уч.к 1336
END:VEVENT
END:VCALENDAR