BEGIN:VCALENDAR
VERSION:2.0
PRODID:-//spbstu.ru//ical//RU
NAME:Расписание группы 3733805/20103
X-WR-CALNAME:Расписание группы 3733805/20103
TIMEZONE-ID:Europe/Moscow
X-WR-TIMEZONE:Europe/Moscow
BEGIN:VEVENT
UID:0653@192.168.245.71:3006
SEQUENCE:0
DTSTAMP:20260425T020542Z
DTSTART:20251028T090000Z
DTEND:20251028T104000Z
SUMMARY:Проектное управление
LOCATION:50 уч.к 1245
END:VEVENT
BEGIN:VEVENT
UID:jnwj@192.168.245.71:3006
SEQUENCE:0
DTSTAMP:20260425T020542Z
DTSTART:20251028T110000Z
DTEND:20251028T124000Z
SUMMARY:Управление инвестициями в корпоративную архитектуру
LOCATION:50 уч.к 1214
END:VEVENT
BEGIN:VEVENT
UID:245w@192.168.245.71:3006
SEQUENCE:0
DTSTAMP:20260425T020542Z
DTSTART:20251029T090000Z
DTEND:20251029T104000Z
SUMMARY:Управление ИТ-сервисами
LOCATION:50 уч.к 1231
END:VEVENT
BEGIN:VEVENT
UID:wi8v@192.168.245.71:3006
SEQUENCE:0
DTSTAMP:20260425T020542Z
DTSTART:20251029T110000Z
DTEND:20251029T124000Z
SUMMARY:Системы поддержки принятия решений
LOCATION:50 уч.к 1103
END:VEVENT
BEGIN:VEVENT
UID:p2wb@192.168.245.71:3006
SEQUENCE:0
DTSTAMP:20260425T020542Z
DTSTART:20251029T130000Z
DTEND:20251029T144000Z
SUMMARY:Проектное управление
LOCATION:50 уч.к 1104
END:VEVENT
BEGIN:VEVENT
UID:ig2g@192.168.245.71:3006
SEQUENCE:0
DTSTAMP:20260425T020542Z
DTSTART:20251030T050000Z
DTEND:20251030T064000Z
SUMMARY:Проектирование комплексных архитектурных решений
LOCATION:50 уч.к 1341
END:VEVENT
BEGIN:VEVENT
UID:3kkv@192.168.245.71:3006
SEQUENCE:0
DTSTAMP:20260425T020542Z
DTSTART:20251030T070000Z
DTEND:20251030T084000Z
SUMMARY:Системы поддержки принятия решений
LOCATION:50 уч.к 1432
END:VEVENT
BEGIN:VEVENT
UID:2009@192.168.245.71:3006
SEQUENCE:0
DTSTAMP:20260425T020542Z
DTSTART:20251030T110000Z
DTEND:20251030T124000Z
SUMMARY:Управление ИТ-сервисами
LOCATION:50 уч.к 1432
END:VEVENT
BEGIN:VEVENT
UID:8407@192.168.245.71:3006
SEQUENCE:0
DTSTAMP:20260425T020542Z
DTSTART:20251030T130000Z
DTEND:20251030T144000Z
SUMMARY:Управление инвестициями в корпоративную архитектуру
LOCATION:50 уч.к 1205
END:VEVENT
BEGIN:VEVENT
UID:4mjl@192.168.245.71:3006
SEQUENCE:0
DTSTAMP:20260425T020542Z
DTSTART:20251101T090000Z
DTEND:20251101T104000Z
SUMMARY:Проектирование комплексных архитектурных решений
LOCATION:50 уч.к 1104
END:VEVENT
BEGIN:VEVENT
UID:1dw0@192.168.245.71:3006
SEQUENCE:0
DTSTAMP:20260425T020542Z
DTSTART:20251101T110000Z
DTEND:20251101T124000Z
SUMMARY:Web- технологии
LOCATION:50 уч.к 1103
END:VEVENT
END:VCALENDAR