BEGIN:VCALENDAR
VERSION:2.0
PRODID:-//spbstu.ru//ical//RU
NAME:Расписание группы 3733805/20103
X-WR-CALNAME:Расписание группы 3733805/20103
TIMEZONE-ID:Europe/Moscow
X-WR-TIMEZONE:Europe/Moscow
BEGIN:VEVENT
UID:iyir@192.168.245.71:3006
SEQUENCE:0
DTSTAMP:20260426T040537Z
DTSTART:20250902T090000Z
DTEND:20250902T104000Z
SUMMARY:Проектное управление
LOCATION:50 уч.к 1245
END:VEVENT
BEGIN:VEVENT
UID:3hy7@192.168.245.71:3006
SEQUENCE:0
DTSTAMP:20260426T040537Z
DTSTART:20250902T110000Z
DTEND:20250902T124000Z
SUMMARY:Управление инвестициями в корпоративную архитектуру
LOCATION:50 уч.к 1214
END:VEVENT
BEGIN:VEVENT
UID:z4ul@192.168.245.71:3006
SEQUENCE:0
DTSTAMP:20260426T040537Z
DTSTART:20250903T090000Z
DTEND:20250903T104000Z
SUMMARY:Управление ИТ-сервисами
LOCATION:50 уч.к 1231
END:VEVENT
BEGIN:VEVENT
UID:lmi7@192.168.245.71:3006
SEQUENCE:0
DTSTAMP:20260426T040537Z
DTSTART:20250903T110000Z
DTEND:20250903T124000Z
SUMMARY:Системы поддержки принятия решений
LOCATION:50 уч.к 1103
END:VEVENT
BEGIN:VEVENT
UID:qb0p@192.168.245.71:3006
SEQUENCE:0
DTSTAMP:20260426T040537Z
DTSTART:20250903T130000Z
DTEND:20250903T144000Z
SUMMARY:Проектное управление
LOCATION:50 уч.к 1104
END:VEVENT
BEGIN:VEVENT
UID:hfg4@192.168.245.71:3006
SEQUENCE:0
DTSTAMP:20260426T040537Z
DTSTART:20250904T050000Z
DTEND:20250904T064000Z
SUMMARY:Проектирование комплексных архитектурных решений
LOCATION:50 уч.к 1341
END:VEVENT
BEGIN:VEVENT
UID:q63u@192.168.245.71:3006
SEQUENCE:0
DTSTAMP:20260426T040537Z
DTSTART:20250904T070000Z
DTEND:20250904T084000Z
SUMMARY:Системы поддержки принятия решений
LOCATION:50 уч.к 1432
END:VEVENT
BEGIN:VEVENT
UID:ax40@192.168.245.71:3006
SEQUENCE:0
DTSTAMP:20260426T040537Z
DTSTART:20250904T110000Z
DTEND:20250904T124000Z
SUMMARY:Управление ИТ-сервисами
LOCATION:50 уч.к 1432
END:VEVENT
BEGIN:VEVENT
UID:nvjd@192.168.245.71:3006
SEQUENCE:0
DTSTAMP:20260426T040537Z
DTSTART:20250904T130000Z
DTEND:20250904T144000Z
SUMMARY:Управление инвестициями в корпоративную архитектуру
LOCATION:50 уч.к 1205
END:VEVENT
BEGIN:VEVENT
UID:5vnp@192.168.245.71:3006
SEQUENCE:0
DTSTAMP:20260426T040537Z
DTSTART:20250906T090000Z
DTEND:20250906T104000Z
SUMMARY:Проектирование комплексных архитектурных решений
LOCATION:50 уч.к 1104
END:VEVENT
BEGIN:VEVENT
UID:fpuu@192.168.245.71:3006
SEQUENCE:0
DTSTAMP:20260426T040537Z
DTSTART:20250906T110000Z
DTEND:20250906T124000Z
SUMMARY:Web- технологии
LOCATION:50 уч.к 1103
END:VEVENT
END:VCALENDAR