BEGIN:VCALENDAR
VERSION:2.0
PRODID:-//spbstu.ru//ical//RU
NAME:Расписание группы 3733805/20103
X-WR-CALNAME:Расписание группы 3733805/20103
TIMEZONE-ID:Europe/Moscow
X-WR-TIMEZONE:Europe/Moscow
BEGIN:VEVENT
UID:h6kc@192.168.245.71:3006
SEQUENCE:0
DTSTAMP:20260426T042446Z
DTSTART:20250916T090000Z
DTEND:20250916T104000Z
SUMMARY:Проектное управление
LOCATION:50 уч.к 1245
END:VEVENT
BEGIN:VEVENT
UID:kjnm@192.168.245.71:3006
SEQUENCE:0
DTSTAMP:20260426T042446Z
DTSTART:20250916T110000Z
DTEND:20250916T124000Z
SUMMARY:Управление инвестициями в корпоративную архитектуру
LOCATION:50 уч.к 1214
END:VEVENT
BEGIN:VEVENT
UID:paue@192.168.245.71:3006
SEQUENCE:0
DTSTAMP:20260426T042446Z
DTSTART:20250917T090000Z
DTEND:20250917T104000Z
SUMMARY:Управление ИТ-сервисами
LOCATION:50 уч.к 1231
END:VEVENT
BEGIN:VEVENT
UID:i90d@192.168.245.71:3006
SEQUENCE:0
DTSTAMP:20260426T042446Z
DTSTART:20250917T110000Z
DTEND:20250917T124000Z
SUMMARY:Системы поддержки принятия решений
LOCATION:50 уч.к 1103
END:VEVENT
BEGIN:VEVENT
UID:k6tm@192.168.245.71:3006
SEQUENCE:0
DTSTAMP:20260426T042446Z
DTSTART:20250917T130000Z
DTEND:20250917T144000Z
SUMMARY:Проектное управление
LOCATION:50 уч.к 1104
END:VEVENT
BEGIN:VEVENT
UID:r5p9@192.168.245.71:3006
SEQUENCE:0
DTSTAMP:20260426T042446Z
DTSTART:20250918T050000Z
DTEND:20250918T064000Z
SUMMARY:Проектирование комплексных архитектурных решений
LOCATION:50 уч.к 1341
END:VEVENT
BEGIN:VEVENT
UID:7h3b@192.168.245.71:3006
SEQUENCE:0
DTSTAMP:20260426T042446Z
DTSTART:20250918T070000Z
DTEND:20250918T084000Z
SUMMARY:Системы поддержки принятия решений
LOCATION:50 уч.к 1432
END:VEVENT
BEGIN:VEVENT
UID:5zsj@192.168.245.71:3006
SEQUENCE:0
DTSTAMP:20260426T042446Z
DTSTART:20250918T110000Z
DTEND:20250918T124000Z
SUMMARY:Управление ИТ-сервисами
LOCATION:50 уч.к 1432
END:VEVENT
BEGIN:VEVENT
UID:l0kz@192.168.245.71:3006
SEQUENCE:0
DTSTAMP:20260426T042446Z
DTSTART:20250918T130000Z
DTEND:20250918T144000Z
SUMMARY:Управление инвестициями в корпоративную архитектуру
LOCATION:50 уч.к 1205
END:VEVENT
BEGIN:VEVENT
UID:af10@192.168.245.71:3006
SEQUENCE:0
DTSTAMP:20260426T042446Z
DTSTART:20250920T090000Z
DTEND:20250920T104000Z
SUMMARY:Проектирование комплексных архитектурных решений
LOCATION:50 уч.к 1104
END:VEVENT
BEGIN:VEVENT
UID:s0p8@192.168.245.71:3006
SEQUENCE:0
DTSTAMP:20260426T042446Z
DTSTART:20250920T110000Z
DTEND:20250920T124000Z
SUMMARY:Web- технологии
LOCATION:50 уч.к 1103
END:VEVENT
END:VCALENDAR