BEGIN:VCALENDAR
VERSION:2.0
PRODID:-//spbstu.ru//ical//RU
NAME:Расписание группы 3733805/20103
X-WR-CALNAME:Расписание группы 3733805/20103
TIMEZONE-ID:Europe/Moscow
X-WR-TIMEZONE:Europe/Moscow
BEGIN:VEVENT
UID:0cau@192.168.245.71:3006
SEQUENCE:0
DTSTAMP:20260426T021211Z
DTSTART:20250909T090000Z
DTEND:20250909T104000Z
SUMMARY:Проектное управление
LOCATION:50 уч.к 1245
END:VEVENT
BEGIN:VEVENT
UID:h8fy@192.168.245.71:3006
SEQUENCE:0
DTSTAMP:20260426T021211Z
DTSTART:20250909T110000Z
DTEND:20250909T124000Z
SUMMARY:Управление инвестициями в корпоративную архитектуру
LOCATION:50 уч.к 1214
END:VEVENT
BEGIN:VEVENT
UID:tlki@192.168.245.71:3006
SEQUENCE:0
DTSTAMP:20260426T021211Z
DTSTART:20250910T090000Z
DTEND:20250910T104000Z
SUMMARY:Управление ИТ-сервисами
LOCATION:50 уч.к 1231
END:VEVENT
BEGIN:VEVENT
UID:zyv3@192.168.245.71:3006
SEQUENCE:0
DTSTAMP:20260426T021211Z
DTSTART:20250910T110000Z
DTEND:20250910T124000Z
SUMMARY:Системы поддержки принятия решений
LOCATION:50 уч.к 1103
END:VEVENT
BEGIN:VEVENT
UID:22gy@192.168.245.71:3006
SEQUENCE:0
DTSTAMP:20260426T021211Z
DTSTART:20250910T130000Z
DTEND:20250910T144000Z
SUMMARY:Проектное управление
LOCATION:50 уч.к 1104
END:VEVENT
BEGIN:VEVENT
UID:1tbd@192.168.245.71:3006
SEQUENCE:0
DTSTAMP:20260426T021211Z
DTSTART:20250911T050000Z
DTEND:20250911T064000Z
SUMMARY:Производство и логистика
LOCATION:50 уч.к 1341
END:VEVENT
BEGIN:VEVENT
UID:oxcc@192.168.245.71:3006
SEQUENCE:0
DTSTAMP:20260426T021211Z
DTSTART:20250911T070000Z
DTEND:20250911T084000Z
SUMMARY:Системы поддержки принятия решений
LOCATION:50 уч.к 1432
END:VEVENT
BEGIN:VEVENT
UID:xb0x@192.168.245.71:3006
SEQUENCE:0
DTSTAMP:20260426T021211Z
DTSTART:20250911T090000Z
DTEND:20250911T104000Z
SUMMARY:Системы поддержки принятия решений
LOCATION:50 уч.к 1210
END:VEVENT
BEGIN:VEVENT
UID:u9ry@192.168.245.71:3006
SEQUENCE:0
DTSTAMP:20260426T021211Z
DTSTART:20250911T110000Z
DTEND:20250911T124000Z
SUMMARY:Управление ИТ-сервисами
LOCATION:50 уч.к 1432
END:VEVENT
BEGIN:VEVENT
UID:ejl2@192.168.245.71:3006
SEQUENCE:0
DTSTAMP:20260426T021211Z
DTSTART:20250911T130000Z
DTEND:20250911T144000Z
SUMMARY:Управление инвестициями в корпоративную архитектуру
LOCATION:50 уч.к 1205
END:VEVENT
BEGIN:VEVENT
UID:dhpe@192.168.245.71:3006
SEQUENCE:0
DTSTAMP:20260426T021211Z
DTSTART:20250912T150000Z
DTEND:20250912T164000Z
SUMMARY:Web- технологии
LOCATION:50 уч.к 1341
END:VEVENT
BEGIN:VEVENT
UID:aznu@192.168.245.71:3006
SEQUENCE:0
DTSTAMP:20260426T021211Z
DTSTART:20250913T070000Z
DTEND:20250913T084000Z
SUMMARY:Производство и логистика
LOCATION:50 уч.к 1205
END:VEVENT
BEGIN:VEVENT
UID:j76c@192.168.245.71:3006
SEQUENCE:0
DTSTAMP:20260426T021211Z
DTSTART:20250913T090000Z
DTEND:20250913T104000Z
SUMMARY:Проектирование комплексных архитектурных решений
LOCATION:50 уч.к 1104
END:VEVENT
BEGIN:VEVENT
UID:99u6@192.168.245.71:3006
SEQUENCE:0
DTSTAMP:20260426T021211Z
DTSTART:20250913T110000Z
DTEND:20250913T124000Z
SUMMARY:Web- технологии
LOCATION:50 уч.к 1103
END:VEVENT
END:VCALENDAR