BEGIN:VCALENDAR
VERSION:2.0
PRODID:-//spbstu.ru//ical//RU
NAME:Расписание группы 3733805/20103
X-WR-CALNAME:Расписание группы 3733805/20103
TIMEZONE-ID:Europe/Moscow
X-WR-TIMEZONE:Europe/Moscow
BEGIN:VEVENT
UID:5r50@192.168.245.71:3006
SEQUENCE:0
DTSTAMP:20260422T163146Z
DTSTART:20260209T070000Z
DTEND:20260209T084000Z
SUMMARY:Управление инновациями
LOCATION:50 уч.к 1245
END:VEVENT
BEGIN:VEVENT
UID:ni7l@192.168.245.71:3006
SEQUENCE:0
DTSTAMP:20260422T163146Z
DTSTART:20260209T090000Z
DTEND:20260209T104000Z
SUMMARY:Информационная безопасность
LOCATION:50 уч.к 1245
END:VEVENT
BEGIN:VEVENT
UID:722d@192.168.245.71:3006
SEQUENCE:0
DTSTAMP:20260422T163146Z
DTSTART:20260210T090000Z
DTEND:20260210T104000Z
SUMMARY:Управление инновациями
LOCATION:50 уч.к 1110
END:VEVENT
BEGIN:VEVENT
UID:8csa@192.168.245.71:3006
SEQUENCE:0
DTSTAMP:20260422T163146Z
DTSTART:20260210T110000Z
DTEND:20260210T124000Z
SUMMARY:Управление инновациями
LOCATION:50 уч.к 1110
END:VEVENT
BEGIN:VEVENT
UID:yr8g@192.168.245.71:3006
SEQUENCE:0
DTSTAMP:20260422T163146Z
DTSTART:20260210T130000Z
DTEND:20260210T144000Z
SUMMARY:Информационная безопасность
LOCATION:50 уч.к 1336
END:VEVENT
BEGIN:VEVENT
UID:t2ip@192.168.245.71:3006
SEQUENCE:0
DTSTAMP:20260422T163146Z
DTSTART:20260211T050000Z
DTEND:20260211T064000Z
SUMMARY:Системы поддержки принятия решений
LOCATION:50 уч.к 1113
END:VEVENT
BEGIN:VEVENT
UID:ml6v@192.168.245.71:3006
SEQUENCE:0
DTSTAMP:20260422T163146Z
DTSTART:20260212T150000Z
DTEND:20260212T164000Z
SUMMARY:Производство и логистика
LOCATION:50 уч.к 1113
END:VEVENT
BEGIN:VEVENT
UID:qo26@192.168.245.71:3006
SEQUENCE:0
DTSTAMP:20260422T163146Z
DTSTART:20260213T050000Z
DTEND:20260213T064000Z
SUMMARY:Комплексная проектная работа
LOCATION:50 уч.к 1113
END:VEVENT
BEGIN:VEVENT
UID:ijvx@192.168.245.71:3006
SEQUENCE:0
DTSTAMP:20260422T163146Z
DTSTART:20260213T070000Z
DTEND:20260213T084000Z
SUMMARY:Комплексная проектная работа
LOCATION:50 уч.к 1113
END:VEVENT
END:VCALENDAR