BEGIN:VCALENDAR
VERSION:2.0
PRODID:-//spbstu.ru//ical//RU
NAME:Расписание группы 3733805/20103
X-WR-CALNAME:Расписание группы 3733805/20103
TIMEZONE-ID:Europe/Moscow
X-WR-TIMEZONE:Europe/Moscow
BEGIN:VEVENT
UID:hr1o@192.168.245.71:3006
SEQUENCE:0
DTSTAMP:20260421T192055Z
DTSTART:20260324T070000Z
DTEND:20260324T103000Z
SUMMARY:Управление инновациями
LOCATION:50 уч.к 1427
END:VEVENT
BEGIN:VEVENT
UID:9bph@192.168.245.71:3006
SEQUENCE:0
DTSTAMP:20260421T192055Z
DTSTART:20260327T150000Z
DTEND:20260327T160000Z
SUMMARY:Информационная безопасность
LOCATION:50 уч.к 1245
END:VEVENT
END:VCALENDAR