BEGIN:VCALENDAR
VERSION:2.0
PRODID:-//spbstu.ru//ical//RU
NAME:Расписание группы 3733805/20201
X-WR-CALNAME:Расписание группы 3733805/20201
TIMEZONE-ID:Europe/Moscow
X-WR-TIMEZONE:Europe/Moscow
BEGIN:VEVENT
UID:r6mz@192.168.245.71:3006
SEQUENCE:0
DTSTAMP:20260425T170051Z
DTSTART:20260216T090000Z
DTEND:20260216T104000Z
SUMMARY:Информационная безопасность
LOCATION:50 уч.к 1245
END:VEVENT
BEGIN:VEVENT
UID:bq9l@192.168.245.71:3006
SEQUENCE:0
DTSTAMP:20260425T170051Z
DTSTART:20260216T110000Z
DTEND:20260216T124000Z
SUMMARY:Информационная безопасность
LOCATION:50 уч.к 1245
END:VEVENT
BEGIN:VEVENT
UID:xpep@192.168.245.71:3006
SEQUENCE:0
DTSTAMP:20260425T170051Z
DTSTART:20260216T130000Z
DTEND:20260216T133000Z
SUMMARY:Цифровой маркетинг и электронная коммерция
LOCATION:50 уч.к 1101
END:VEVENT
BEGIN:VEVENT
UID:fyxg@192.168.245.71:3006
SEQUENCE:0
DTSTAMP:20260425T170051Z
DTSTART:20260216T140000Z
DTEND:20260216T143000Z
SUMMARY:Основы дизайна пользовательского интерфейса
LOCATION:50 уч.к 1101
END:VEVENT
BEGIN:VEVENT
UID:87mb@192.168.245.71:3006
SEQUENCE:0
DTSTAMP:20260425T170051Z
DTSTART:20260217T070000Z
DTEND:20260217T084000Z
SUMMARY:Модели инновационного бизнеса
LOCATION:DL Дистанционно
END:VEVENT
BEGIN:VEVENT
UID:zdi8@192.168.245.71:3006
SEQUENCE:0
DTSTAMP:20260425T170051Z
DTSTART:20260217T090000Z
DTEND:20260217T104000Z
SUMMARY:Модели инновационного бизнеса
LOCATION:DL Дистанционно
END:VEVENT
BEGIN:VEVENT
UID:rflp@192.168.245.71:3006
SEQUENCE:0
DTSTAMP:20260425T170051Z
DTSTART:20260217T130000Z
DTEND:20260217T144000Z
SUMMARY:Информационная безопасность
LOCATION:50 уч.к 1336
END:VEVENT
BEGIN:VEVENT
UID:0kqh@192.168.245.71:3006
SEQUENCE:0
DTSTAMP:20260425T170051Z
DTSTART:20260218T150000Z
DTEND:20260218T164000Z
SUMMARY:Управление инвестициями в развитие электронного бизнеса
LOCATION:50 уч.к 1107
END:VEVENT
BEGIN:VEVENT
UID:f46e@192.168.245.71:3006
SEQUENCE:0
DTSTAMP:20260425T170051Z
DTSTART:20260219T050000Z
DTEND:20260219T064000Z
SUMMARY:Комплексная проектная работа
LOCATION:50 уч.к 1113
END:VEVENT
BEGIN:VEVENT
UID:eey0@192.168.245.71:3006
SEQUENCE:0
DTSTAMP:20260425T170051Z
DTSTART:20260219T070000Z
DTEND:20260219T084000Z
SUMMARY:Комплексная проектная работа
LOCATION:50 уч.к 1113
END:VEVENT
BEGIN:VEVENT
UID:qezb@192.168.245.71:3006
SEQUENCE:0
DTSTAMP:20260425T170051Z
DTSTART:20260219T150000Z
DTEND:20260219T164000Z
SUMMARY:Управление развитием цифровых предприятий
LOCATION:50 уч.к 1218
END:VEVENT
BEGIN:VEVENT
UID:gzke@192.168.245.71:3006
SEQUENCE:0
DTSTAMP:20260425T170051Z
DTSTART:20260221T090000Z
DTEND:20260221T104000Z
SUMMARY:Проектирование комплексных архитектурных решений
LOCATION:50 уч.к 1109
END:VEVENT
END:VCALENDAR