BEGIN:VCALENDAR
VERSION:2.0
PRODID:-//spbstu.ru//ical//RU
NAME:Расписание группы 3733806/20101
X-WR-CALNAME:Расписание группы 3733806/20101
TIMEZONE-ID:Europe/Moscow
X-WR-TIMEZONE:Europe/Moscow
BEGIN:VEVENT
UID:xt2q@192.168.245.71:3006
SEQUENCE:0
DTSTAMP:20260423T141333Z
DTSTART:20260112T070000Z
DTEND:20260112T084000Z
SUMMARY:Распределительная логистика в торговле
LOCATION:DL Дистанционно
END:VEVENT
BEGIN:VEVENT
UID:5o6j@192.168.245.71:3006
SEQUENCE:0
DTSTAMP:20260423T141333Z
DTSTART:20260114T070000Z
DTEND:20260114T104000Z
SUMMARY:Распределительная логистика в торговле
LOCATION:50 уч.к 1225
END:VEVENT
BEGIN:VEVENT
UID:4930@192.168.245.71:3006
SEQUENCE:0
DTSTAMP:20260423T141333Z
DTSTART:20260116T070000Z
DTEND:20260116T084000Z
SUMMARY:Управление трудовым потенциалом торгового предприятия
LOCATION:DL Дистанционно
END:VEVENT
END:VCALENDAR