BEGIN:VCALENDAR
VERSION:2.0
PRODID:-//spbstu.ru//ical//RU
NAME:Расписание группы 3733806/20101
X-WR-CALNAME:Расписание группы 3733806/20101
TIMEZONE-ID:Europe/Moscow
X-WR-TIMEZONE:Europe/Moscow
BEGIN:VEVENT
UID:i86h@192.168.245.71:3006
SEQUENCE:0
DTSTAMP:20260422T081832Z
DTSTART:20260316T070000Z
DTEND:20260316T084000Z
SUMMARY:Моделирование бизнес процессов в торговле
LOCATION:50 уч.к 1251
END:VEVENT
BEGIN:VEVENT
UID:wfma@192.168.245.71:3006
SEQUENCE:0
DTSTAMP:20260422T081832Z
DTSTART:20260316T090000Z
DTEND:20260316T104000Z
SUMMARY:Моделирование бизнес процессов в торговле
LOCATION:50 уч.к 1251
END:VEVENT
BEGIN:VEVENT
UID:0lnp@192.168.245.71:3006
SEQUENCE:0
DTSTAMP:20260422T081832Z
DTSTART:20260316T110000Z
DTEND:20260316T124000Z
SUMMARY:Организация оплаты труда на предприятии торговли
LOCATION:50 уч.к 1243
END:VEVENT
BEGIN:VEVENT
UID:ka2p@192.168.245.71:3006
SEQUENCE:0
DTSTAMP:20260422T081832Z
DTSTART:20260316T130000Z
DTEND:20260316T144000Z
SUMMARY:Организация оплаты труда на предприятии торговли
LOCATION:50 уч.к 1225
END:VEVENT
BEGIN:VEVENT
UID:mg8r@192.168.245.71:3006
SEQUENCE:0
DTSTAMP:20260422T081832Z
DTSTART:20260321T090000Z
DTEND:20260321T104000Z
SUMMARY:Инвестиционный анализ и проектирование в сфере товарного обращения
LOCATION:50 уч.к 1105
END:VEVENT
BEGIN:VEVENT
UID:yswg@192.168.245.71:3006
SEQUENCE:0
DTSTAMP:20260422T081832Z
DTSTART:20260321T110000Z
DTEND:20260321T124000Z
SUMMARY:Инвестиционный анализ и проектирование в сфере товарного обращения
LOCATION:50 уч.к 1251
END:VEVENT
END:VCALENDAR