BEGIN:VCALENDAR
VERSION:2.0
PRODID:-//spbstu.ru//ical//RU
NAME:Расписание группы 3733807/20201
X-WR-CALNAME:Расписание группы 3733807/20201
TIMEZONE-ID:Europe/Moscow
X-WR-TIMEZONE:Europe/Moscow
BEGIN:VEVENT
UID:nqzz@192.168.245.71:3006
SEQUENCE:0
DTSTAMP:20260425T211250Z
DTSTART:20251006T090000Z
DTEND:20251006T104000Z
SUMMARY:Организация\, технология и проектирование предприятий розничной то
 рговли
LOCATION:50 уч.к 1233
END:VEVENT
BEGIN:VEVENT
UID:zwok@192.168.245.71:3006
SEQUENCE:0
DTSTAMP:20260425T211250Z
DTSTART:20251006T110000Z
DTEND:20251006T124000Z
SUMMARY:Организация\, технология и проектирование предприятий розничной то
 рговли
LOCATION:50 уч.к 1233
END:VEVENT
BEGIN:VEVENT
UID:camq@192.168.245.71:3006
SEQUENCE:0
DTSTAMP:20260425T211250Z
DTSTART:20251006T130000Z
DTEND:20251006T144000Z
SUMMARY:Управление ассортиментом
LOCATION:50 уч.к 1233
END:VEVENT
BEGIN:VEVENT
UID:wvzv@192.168.245.71:3006
SEQUENCE:0
DTSTAMP:20260425T211250Z
DTSTART:20251007T070000Z
DTEND:20251007T084000Z
SUMMARY:Товароведение и экспертиза мясных и рыбных товаров
LOCATION:50 уч.к 1120
END:VEVENT
BEGIN:VEVENT
UID:u4nh@192.168.245.71:3006
SEQUENCE:0
DTSTAMP:20260425T211250Z
DTSTART:20251007T090000Z
DTEND:20251007T104000Z
SUMMARY:Лабораторный практикум по товароведению и экспертизе текстильных т
 оваров
LOCATION:50 уч.к 1120
END:VEVENT
BEGIN:VEVENT
UID:6o9m@192.168.245.71:3006
SEQUENCE:0
DTSTAMP:20260425T211250Z
DTSTART:20251007T110000Z
DTEND:20251007T124000Z
SUMMARY:Товароведение и экспертиза швейных и трикотажных товаров
LOCATION:50 уч.к 1120
END:VEVENT
BEGIN:VEVENT
UID:nwzu@192.168.245.71:3006
SEQUENCE:0
DTSTAMP:20260425T211250Z
DTSTART:20251008T050000Z
DTEND:20251008T064000Z
SUMMARY:Оценка и прогнозирование продаж
LOCATION:50 уч.к 1225
END:VEVENT
BEGIN:VEVENT
UID:hg0t@192.168.245.71:3006
SEQUENCE:0
DTSTAMP:20260425T211250Z
DTSTART:20251008T070000Z
DTEND:20251008T084000Z
SUMMARY:Организация предпринимательской деятельности в торговле
LOCATION:50 уч.к 1225
END:VEVENT
BEGIN:VEVENT
UID:slfy@192.168.245.71:3006
SEQUENCE:0
DTSTAMP:20260425T211250Z
DTSTART:20251008T090000Z
DTEND:20251008T104000Z
SUMMARY:Организация предпринимательской деятельности в торговле
LOCATION:50 уч.к 1225
END:VEVENT
BEGIN:VEVENT
UID:l83m@192.168.245.71:3006
SEQUENCE:0
DTSTAMP:20260425T211250Z
DTSTART:20251009T050000Z
DTEND:20251009T064000Z
SUMMARY:Информационные технологии в профессиональной деятельности
LOCATION:50 уч.к 1336
END:VEVENT
BEGIN:VEVENT
UID:f12n@192.168.245.71:3006
SEQUENCE:0
DTSTAMP:20260425T211250Z
DTSTART:20251009T070000Z
DTEND:20251009T084000Z
SUMMARY:Товароведение и экспертиза швейных и трикотажных товаров
LOCATION:50 уч.к 1156
END:VEVENT
BEGIN:VEVENT
UID:s9d1@192.168.245.71:3006
SEQUENCE:0
DTSTAMP:20260425T211250Z
DTSTART:20251009T090000Z
DTEND:20251009T104000Z
SUMMARY:Товароведение и экспертиза швейных и трикотажных товаров
LOCATION:50 уч.к 1156
END:VEVENT
BEGIN:VEVENT
UID:7jia@192.168.245.71:3006
SEQUENCE:0
DTSTAMP:20260425T211250Z
DTSTART:20251010T050000Z
DTEND:20251010T064000Z
SUMMARY:Производственная практика/Научно-исследовательская работа
LOCATION:50 уч.к 1154
END:VEVENT
BEGIN:VEVENT
UID:6w93@192.168.245.71:3006
SEQUENCE:0
DTSTAMP:20260425T211250Z
DTSTART:20251010T070000Z
DTEND:20251010T084000Z
SUMMARY:Товароведение и экспертиза мясных и рыбных товаров
LOCATION:50 уч.к 1160
END:VEVENT
BEGIN:VEVENT
UID:4tzb@192.168.245.71:3006
SEQUENCE:0
DTSTAMP:20260425T211250Z
DTSTART:20251010T070000Z
DTEND:20251010T084000Z
SUMMARY:Лабораторный практикум по товароведению и экспертизе текстильных т
 оваров
LOCATION:50 уч.к 1156
END:VEVENT
BEGIN:VEVENT
UID:v7fj@192.168.245.71:3006
SEQUENCE:0
DTSTAMP:20260425T211250Z
DTSTART:20251010T090000Z
DTEND:20251010T104000Z
SUMMARY:Лабораторный практикум по товароведению и экспертизе текстильных т
 оваров
LOCATION:50 уч.к 1156
END:VEVENT
BEGIN:VEVENT
UID:qp6r@192.168.245.71:3006
SEQUENCE:0
DTSTAMP:20260425T211250Z
DTSTART:20251010T090000Z
DTEND:20251010T104000Z
SUMMARY:Товароведение и экспертиза мясных и рыбных товаров
LOCATION:50 уч.к 1160
END:VEVENT
BEGIN:VEVENT
UID:h3nc@192.168.245.71:3006
SEQUENCE:0
DTSTAMP:20260425T211250Z
DTSTART:20251010T110000Z
DTEND:20251010T124000Z
SUMMARY:Лабораторный практикум по товароведению и экспертизе текстильных т
 оваров
LOCATION:50 уч.к 1156
END:VEVENT
END:VCALENDAR