BEGIN:VCALENDAR
VERSION:2.0
PRODID:-//spbstu.ru//ical//RU
NAME:Расписание группы 3733807/20201
X-WR-CALNAME:Расписание группы 3733807/20201
TIMEZONE-ID:Europe/Moscow
X-WR-TIMEZONE:Europe/Moscow
BEGIN:VEVENT
UID:u99m@192.168.245.71:3006
SEQUENCE:0
DTSTAMP:20260424T043207Z
DTSTART:20251222T070000Z
DTEND:20251222T104000Z
SUMMARY:Комплексная проектная работа
LOCATION:50 уч.к 1120
END:VEVENT
BEGIN:VEVENT
UID:zs8j@192.168.245.71:3006
SEQUENCE:0
DTSTAMP:20260424T043207Z
DTSTART:20251225T070000Z
DTEND:20251225T094000Z
SUMMARY:Комплексная проектная работа
LOCATION:50 уч.к 1120
END:VEVENT
BEGIN:VEVENT
UID:nmwe@192.168.245.71:3006
SEQUENCE:0
DTSTAMP:20260424T043207Z
DTSTART:20251226T090000Z
DTEND:20251226T110000Z
SUMMARY:Управление ассортиментом
LOCATION:50 уч.к 1424
END:VEVENT
END:VCALENDAR