BEGIN:VCALENDAR
VERSION:2.0
PRODID:-//spbstu.ru//ical//RU
NAME:Расписание группы 3733807/20201
X-WR-CALNAME:Расписание группы 3733807/20201
TIMEZONE-ID:Europe/Moscow
X-WR-TIMEZONE:Europe/Moscow
BEGIN:VEVENT
UID:t8u1@192.168.245.71:3006
SEQUENCE:0
DTSTAMP:20260426T021352Z
DTSTART:20250922T090000Z
DTEND:20250922T104000Z
SUMMARY:Организация\, технология и проектирование предприятий розничной то
 рговли
LOCATION:50 уч.к 1233
END:VEVENT
BEGIN:VEVENT
UID:i9g1@192.168.245.71:3006
SEQUENCE:0
DTSTAMP:20260426T021352Z
DTSTART:20250922T110000Z
DTEND:20250922T124000Z
SUMMARY:Организация\, технология и проектирование предприятий розничной то
 рговли
LOCATION:50 уч.к 1233
END:VEVENT
BEGIN:VEVENT
UID:q481@192.168.245.71:3006
SEQUENCE:0
DTSTAMP:20260426T021352Z
DTSTART:20250922T130000Z
DTEND:20250922T144000Z
SUMMARY:Управление ассортиментом
LOCATION:50 уч.к 1233
END:VEVENT
BEGIN:VEVENT
UID:tko4@192.168.245.71:3006
SEQUENCE:0
DTSTAMP:20260426T021352Z
DTSTART:20250923T070000Z
DTEND:20250923T084000Z
SUMMARY:Товароведение и экспертиза мясных и рыбных товаров
LOCATION:50 уч.к 1120
END:VEVENT
BEGIN:VEVENT
UID:ir15@192.168.245.71:3006
SEQUENCE:0
DTSTAMP:20260426T021352Z
DTSTART:20250923T090000Z
DTEND:20250923T104000Z
SUMMARY:Лабораторный практикум по товароведению и экспертизе текстильных т
 оваров
LOCATION:50 уч.к 1120
END:VEVENT
BEGIN:VEVENT
UID:lor5@192.168.245.71:3006
SEQUENCE:0
DTSTAMP:20260426T021352Z
DTSTART:20250923T110000Z
DTEND:20250923T124000Z
SUMMARY:Товароведение и экспертиза швейных и трикотажных товаров
LOCATION:50 уч.к 1120
END:VEVENT
BEGIN:VEVENT
UID:e14c@192.168.245.71:3006
SEQUENCE:0
DTSTAMP:20260426T021352Z
DTSTART:20250924T050000Z
DTEND:20250924T064000Z
SUMMARY:Оценка и прогнозирование продаж
LOCATION:50 уч.к 1225
END:VEVENT
BEGIN:VEVENT
UID:vxbp@192.168.245.71:3006
SEQUENCE:0
DTSTAMP:20260426T021352Z
DTSTART:20250924T070000Z
DTEND:20250924T084000Z
SUMMARY:Организация предпринимательской деятельности в торговле
LOCATION:50 уч.к 1225
END:VEVENT
BEGIN:VEVENT
UID:sk5e@192.168.245.71:3006
SEQUENCE:0
DTSTAMP:20260426T021352Z
DTSTART:20250924T090000Z
DTEND:20250924T104000Z
SUMMARY:Организация предпринимательской деятельности в торговле
LOCATION:50 уч.к 1225
END:VEVENT
BEGIN:VEVENT
UID:ktbf@192.168.245.71:3006
SEQUENCE:0
DTSTAMP:20260426T021352Z
DTSTART:20250925T050000Z
DTEND:20250925T064000Z
SUMMARY:Информационные технологии в профессиональной деятельности
LOCATION:50 уч.к 1336
END:VEVENT
BEGIN:VEVENT
UID:4vzv@192.168.245.71:3006
SEQUENCE:0
DTSTAMP:20260426T021352Z
DTSTART:20250925T070000Z
DTEND:20250925T084000Z
SUMMARY:Товароведение и экспертиза швейных и трикотажных товаров
LOCATION:50 уч.к 1156
END:VEVENT
BEGIN:VEVENT
UID:exf0@192.168.245.71:3006
SEQUENCE:0
DTSTAMP:20260426T021352Z
DTSTART:20250925T090000Z
DTEND:20250925T104000Z
SUMMARY:Товароведение и экспертиза швейных и трикотажных товаров
LOCATION:50 уч.к 1156
END:VEVENT
BEGIN:VEVENT
UID:crx2@192.168.245.71:3006
SEQUENCE:0
DTSTAMP:20260426T021352Z
DTSTART:20250926T070000Z
DTEND:20250926T084000Z
SUMMARY:Товароведение и экспертиза мясных и рыбных товаров
LOCATION:50 уч.к 1160
END:VEVENT
BEGIN:VEVENT
UID:pznp@192.168.245.71:3006
SEQUENCE:0
DTSTAMP:20260426T021352Z
DTSTART:20250926T070000Z
DTEND:20250926T084000Z
SUMMARY:Лабораторный практикум по товароведению и экспертизе текстильных т
 оваров
LOCATION:50 уч.к 1156
END:VEVENT
BEGIN:VEVENT
UID:dcfb@192.168.245.71:3006
SEQUENCE:0
DTSTAMP:20260426T021352Z
DTSTART:20250926T090000Z
DTEND:20250926T104000Z
SUMMARY:Лабораторный практикум по товароведению и экспертизе текстильных т
 оваров
LOCATION:50 уч.к 1156
END:VEVENT
BEGIN:VEVENT
UID:y4kr@192.168.245.71:3006
SEQUENCE:0
DTSTAMP:20260426T021352Z
DTSTART:20250926T090000Z
DTEND:20250926T104000Z
SUMMARY:Товароведение и экспертиза мясных и рыбных товаров
LOCATION:50 уч.к 1160
END:VEVENT
BEGIN:VEVENT
UID:bayv@192.168.245.71:3006
SEQUENCE:0
DTSTAMP:20260426T021352Z
DTSTART:20250926T110000Z
DTEND:20250926T124000Z
SUMMARY:Лабораторный практикум по товароведению и экспертизе текстильных т
 оваров
LOCATION:50 уч.к 1156
END:VEVENT
END:VCALENDAR