BEGIN:VCALENDAR
VERSION:2.0
PRODID:-//spbstu.ru//ical//RU
NAME:Расписание группы 3753801/20101
X-WR-CALNAME:Расписание группы 3753801/20101
TIMEZONE-ID:Europe/Moscow
X-WR-TIMEZONE:Europe/Moscow
BEGIN:VEVENT
UID:2fhh@192.168.245.71:3006
SEQUENCE:0
DTSTAMP:20260422T101441Z
DTSTART:20260216T070000Z
DTEND:20260216T084000Z
SUMMARY:Обеспечение экономико-правовой защиты собственности и предпринимат
 ельской деятельности
LOCATION:50 уч.к 1432
END:VEVENT
BEGIN:VEVENT
UID:baen@192.168.245.71:3006
SEQUENCE:0
DTSTAMP:20260422T101441Z
DTSTART:20260216T090000Z
DTEND:20260216T104000Z
SUMMARY:Обеспечение экономико-правовой защиты собственности и предпринимат
 ельской деятельности
LOCATION:50 уч.к 1425
END:VEVENT
BEGIN:VEVENT
UID:4lnb@192.168.245.71:3006
SEQUENCE:0
DTSTAMP:20260422T101441Z
DTSTART:20260216T110000Z
DTEND:20260216T124000Z
SUMMARY:Автоматизация бизнес-процессов
LOCATION:50 уч.к 1103
END:VEVENT
BEGIN:VEVENT
UID:iks3@192.168.245.71:3006
SEQUENCE:0
DTSTAMP:20260422T101441Z
DTSTART:20260216T130000Z
DTEND:20260216T144000Z
SUMMARY:Корпоративное управление
LOCATION:50 уч.к 1432
END:VEVENT
BEGIN:VEVENT
UID:atom@192.168.245.71:3006
SEQUENCE:0
DTSTAMP:20260422T101441Z
DTSTART:20260216T150000Z
DTEND:20260216T164000Z
SUMMARY:Экономическая безопасность организаций
LOCATION:50 уч.к 1422
END:VEVENT
BEGIN:VEVENT
UID:d8sp@192.168.245.71:3006
SEQUENCE:0
DTSTAMP:20260422T101441Z
DTSTART:20260217T090000Z
DTEND:20260217T104000Z
SUMMARY:Специальная подготовка
LOCATION:СК 1 к.\, метод.класс
END:VEVENT
BEGIN:VEVENT
UID:iyw4@192.168.245.71:3006
SEQUENCE:0
DTSTAMP:20260422T101441Z
DTSTART:20260217T110000Z
DTEND:20260217T124000Z
SUMMARY:Корпоративное управление
LOCATION:50 уч.к 1326
END:VEVENT
BEGIN:VEVENT
UID:g4es@192.168.245.71:3006
SEQUENCE:0
DTSTAMP:20260422T101441Z
DTSTART:20260217T150000Z
DTEND:20260217T164000Z
SUMMARY:Эконометрика
LOCATION:50 уч.к 1103
END:VEVENT
BEGIN:VEVENT
UID:mkkp@192.168.245.71:3006
SEQUENCE:0
DTSTAMP:20260422T101441Z
DTSTART:20260219T060000Z
DTEND:20260219T064000Z
SUMMARY:Управление персоналом
LOCATION:50 уч.к 1331
END:VEVENT
BEGIN:VEVENT
UID:zw2u@192.168.245.71:3006
SEQUENCE:0
DTSTAMP:20260422T101441Z
DTSTART:20260219T070000Z
DTEND:20260219T084000Z
SUMMARY:Основы информационной безопасности
LOCATION:50 уч.к 1245
END:VEVENT
BEGIN:VEVENT
UID:osrd@192.168.245.71:3006
SEQUENCE:0
DTSTAMP:20260422T101441Z
DTSTART:20260219T090000Z
DTEND:20260219T104000Z
SUMMARY:Экономический анализ
LOCATION:50 уч.к 1113
END:VEVENT
BEGIN:VEVENT
UID:s3wt@192.168.245.71:3006
SEQUENCE:0
DTSTAMP:20260422T101441Z
DTSTART:20260219T110000Z
DTEND:20260219T124000Z
SUMMARY:Основы информационной безопасности
LOCATION:50 уч.к 1204
END:VEVENT
BEGIN:VEVENT
UID:lwr5@192.168.245.71:3006
SEQUENCE:0
DTSTAMP:20260422T101441Z
DTSTART:20260219T130000Z
DTEND:20260219T144000Z
SUMMARY:Автоматизация бизнес-процессов
LOCATION:50 уч.к 1103
END:VEVENT
BEGIN:VEVENT
UID:3uqw@192.168.245.71:3006
SEQUENCE:0
DTSTAMP:20260422T101441Z
DTSTART:20260220T090000Z
DTEND:20260220T104000Z
SUMMARY:Специальная подготовка
LOCATION:СК 1 к.\, метод.класс
END:VEVENT
END:VCALENDAR